BEGIN:VCALENDAR
VERSION:2.0
PRODID:-//E.D.P. - ECPv6.15.20//NONSGML v1.0//EN
CALSCALE:GREGORIAN
METHOD:PUBLISH
X-ORIGINAL-URL:https://edp-koeln.de
X-WR-CALDESC:Veranstaltungen für E.D.P.
REFRESH-INTERVAL;VALUE=DURATION:PT1H
X-Robots-Tag:noindex
X-PUBLISHED-TTL:PT1H
BEGIN:VTIMEZONE
TZID:Europe/Berlin
BEGIN:DAYLIGHT
TZOFFSETFROM:+0100
TZOFFSETTO:+0200
TZNAME:CEST
DTSTART:20230326T010000
END:DAYLIGHT
BEGIN:STANDARD
TZOFFSETFROM:+0200
TZOFFSETTO:+0100
TZNAME:CET
DTSTART:20231029T010000
END:STANDARD
BEGIN:DAYLIGHT
TZOFFSETFROM:+0100
TZOFFSETTO:+0200
TZNAME:CEST
DTSTART:20240331T010000
END:DAYLIGHT
BEGIN:STANDARD
TZOFFSETFROM:+0200
TZOFFSETTO:+0100
TZNAME:CET
DTSTART:20241027T010000
END:STANDARD
BEGIN:DAYLIGHT
TZOFFSETFROM:+0100
TZOFFSETTO:+0200
TZNAME:CEST
DTSTART:20250330T010000
END:DAYLIGHT
BEGIN:STANDARD
TZOFFSETFROM:+0200
TZOFFSETTO:+0100
TZNAME:CET
DTSTART:20251026T010000
END:STANDARD
END:VTIMEZONE
BEGIN:VEVENT
DTSTART;TZID=Europe/Berlin:20241027T180000
DTEND;TZID=Europe/Berlin:20241027T210000
DTSTAMP:20260425T025828
CREATED:20240806T213638Z
LAST-MODIFIED:20241016T184930Z
UID:4075-1730052000-1730062800@edp-koeln.de
SUMMARY:Jenny Don't and the Spurs (US) + Boney and the Shakers
DESCRIPTION:[vc_row][vc_column icons_position=“left“][vc_row_inner][vc_column_inner width=“2/3″ icons_position=“left“][vc_column_text] \nJenny Don’t and the Spurs (US)\nSonntags-Matinée-Show \nJenny Don’t and the Spurs sind international bekannte Western-Rebel-Cowboy-Punks aus dem legendären und einflussreichen Rock’n’Roll-Untergrund von Portland\, Oregon. \nNach dem tragischen Tod von Schlagzeuger Sam Henry (Wipers) besteht die Band aus Sängerin Jenny Don’t (Don’t\, Ladies Of The Night)\, Kelly Halliburton (P.R.O.B.L.E.M.S.\, Pierced Arrows\, Defiance etc.)\, Christopher March und Buddy Weeks. \nDie sonst eher aus Punkrock- und Garage-Zusammenhängen bekannten Leute huldigen hier alten\, klassischen Country- und Protestsängern aus den 1940er und 50er Jahren wie Patsy Cline\, Ernest Tubb\, Hank Williams Sr. oder Loretta Lynne. Musik aus einer Ära\, in der die Grenzen zwischen Rock’n‘Roll und Country noch verschwommen waren und in der Musiker wie Elvis Presley\, Johnny Cash und Carl Perkins zusammen touren konnten\, ohne daß jemand mit der Wimper zuckte. \nAuch mit neuem Line-up und nach unzähligen Shows in den USA\, Europa und Australien sind die Intensität und Energie ihres Livesets ein Muss für jeden\, der temperamentvolle\, von Garage inspirierte Country-Musik mag\, die mit Aufrichtigkeit und Überzeugung gespielt wird. \nDie erste Single der Spurs erschien auf Fred Cole’s (Dead Moon) Label Tombstone Records\, ihre drei Alben auf Doomtown Sounds und Mississippi Records. \nBoney & the Shakers\nBoney & the Shakers präsentieren mit ihrer Mischung aus Akustik Rockabilly\, klassischem Rock’n’Roll\, oldschool R&B und ihrer eigenen frischen Interpretation desselben mitreißende Live Shows! Mit der unverwechselbaren Powerstimme und Stand Up Drummerin Boney Shaker\, Gitarrist Schorni Walker (The SewerRats/Kannentime Records) und Kontrabassist Puck Lensing (Frantic Flinstones\, The Offenders) spielt die Band seit Sommer 2017 bundesweit und sogar international. Die Shakers feuern ihre Offenheit und Liebe zum Rock’n’Roll mit treibendem Acoustic Rockabilly Sound in die Welt. Ganz nach dem Motto „Shake Baby Shake“\, ist bei den Boney & the Shakers Party garantiert! \nSo. 27.10.24 | Einlass 17 h | Beginn 18 h[/vc_column_text][vc_empty_space height=“2em“ alter_height=“none“ hide_on_desktop=““ hide_on_notebook=““ hide_on_tablet=““ hide_on_mobile=““][/vc_column_inner][vc_column_inner width=“1/3″ icons_position=“left“][vc_empty_space height=“2em“ alter_height=“none“ hide_on_desktop=““ hide_on_notebook=““ hide_on_tablet=““ hide_on_mobile=““][/vc_column_inner][vc_column_inner width=“1/3″ icons_position=“left“]\n			Vorverkauf16\,50 EuroPreis inklusive Gebühren \n(Abendkasse 18 Euro) Jetzt kaufen[vc_empty_space height=“2em“ alter_height=“none“ hide_on_desktop=““ hide_on_notebook=““ hide_on_tablet=““ hide_on_mobile=““][/vc_column_inner][/vc_row_inner][/vc_column][/vc_row][vc_row][vc_column width=“1/2″ icons_position=“left“][vc_column_text][/vc_column_text][/vc_column][vc_column width=“1/2″ icons_position=“left“][vc_column_text][/vc_column_text][/vc_column][/vc_row]
URL:https://edp-koeln.de/event/jenny-dont-and-the-spurs-okt-2024/
CATEGORIES:Konzert
ATTACH;FMTTYPE=image/jpeg:https://edp-koeln.de/wp-content/uploads/2024/08/spurs-shakers.jpg
END:VEVENT
END:VCALENDAR