BEGIN:VCALENDAR
VERSION:2.0
PRODID:-//E.D.P. - ECPv6.15.20//NONSGML v1.0//EN
CALSCALE:GREGORIAN
METHOD:PUBLISH
X-WR-CALNAME:E.D.P.
X-ORIGINAL-URL:https://edp-koeln.de
X-WR-CALDESC:Veranstaltungen für E.D.P.
REFRESH-INTERVAL;VALUE=DURATION:PT1H
X-Robots-Tag:noindex
X-PUBLISHED-TTL:PT1H
BEGIN:VTIMEZONE
TZID:Europe/Berlin
BEGIN:DAYLIGHT
TZOFFSETFROM:+0100
TZOFFSETTO:+0200
TZNAME:CEST
DTSTART:20230326T010000
END:DAYLIGHT
BEGIN:STANDARD
TZOFFSETFROM:+0200
TZOFFSETTO:+0100
TZNAME:CET
DTSTART:20231029T010000
END:STANDARD
BEGIN:DAYLIGHT
TZOFFSETFROM:+0100
TZOFFSETTO:+0200
TZNAME:CEST
DTSTART:20240331T010000
END:DAYLIGHT
BEGIN:STANDARD
TZOFFSETFROM:+0200
TZOFFSETTO:+0100
TZNAME:CET
DTSTART:20241027T010000
END:STANDARD
BEGIN:DAYLIGHT
TZOFFSETFROM:+0100
TZOFFSETTO:+0200
TZNAME:CEST
DTSTART:20250330T010000
END:DAYLIGHT
BEGIN:STANDARD
TZOFFSETFROM:+0200
TZOFFSETTO:+0100
TZNAME:CET
DTSTART:20251026T010000
END:STANDARD
END:VTIMEZONE
BEGIN:VEVENT
DTSTART;TZID=Europe/Berlin:20240711T200000
DTEND;TZID=Europe/Berlin:20240711T220000
DTSTAMP:20260425T051434
CREATED:20240221T170131Z
LAST-MODIFIED:20240710T215023Z
UID:3964-1720728000-1720735200@edp-koeln.de
SUMMARY:Jenny Don't and the Spurs (US)
DESCRIPTION:[vc_row][vc_column icons_position=“left“][vc_row_inner][vc_column_inner width=“2/3″ icons_position=“left“][vc_column_text] \nJenny Don’t and the Spurs (US)\nJenny Don’t and the Spurs sind international bekannte Western-Rebel-Cowboy-Punks aus dem legendären und einflussreichen Rock’n’Roll-Untergrund von Portland\, Oregon. \nNach dem tragischen Tod von Schlagzeuger Sam Henry (Wipers) besteht die Band aus Sängerin Jenny Don’t (Don’t\, Ladies Of The Night)\, Kelly Halliburton (P.R.O.B.L.E.M.S.\, Pierced Arrows\, Defiance etc.)\, Christopher March und Buddy Weeks. \nDie sonst eher aus Punkrock- und Garage-Zusammenhängen bekannten Leute huldigen hier alten\, klassischen Country- und Protestsängern aus den 1940er und 50er Jahren wie Patsy Cline\, Ernest Tubb\, Hank Williams Sr. oder Loretta Lynne. Musik aus einer Ära\, in der die Grenzen zwischen Rock’n‘Roll und Country noch verschwommen waren und in der Musiker wie Elvis Presley\, Johnny Cash und Carl Perkins zusammen touren konnten\, ohne daß jemand mit der Wimper zuckte. \nAuch mit neuem Line-up und nach unzähligen Shows in den USA\, Europa und Australien sind die Intensität und Energie ihres Livesets ein Muss für jeden\, der temperamentvolle\, von Garage inspirierte Country-Musik mag\, die mit Aufrichtigkeit und Überzeugung gespielt wird. \nDie erste Single der Spurs erschien auf Fred Cole’s (Dead Moon) Label Tombstone Records\, ihre drei Alben auf Doomtown Sounds und Mississippi Records. \nDo. 11.07.24 | Einlass 19 h | Beginn 20 h[/vc_column_text][vc_empty_space height=“2em“ alter_height=“none“ hide_on_desktop=““ hide_on_notebook=““ hide_on_tablet=““ hide_on_mobile=““][/vc_column_inner][vc_column_inner width=“1/3″ icons_position=“left“][vc_empty_space height=“2em“ alter_height=“none“ hide_on_desktop=““ hide_on_notebook=““ hide_on_tablet=““ hide_on_mobile=““][/vc_column_inner][vc_column_inner width=“1/3″ icons_position=“left“]\n			Vorverkauf15\,40 Euro Preis inklusive Gebühren \n(Abendkasse 17 Euro) Jetzt kaufen[/vc_column_inner][/vc_row_inner][/vc_column][/vc_row][vc_row][vc_column width=“1/2″ icons_position=“left“][vc_column_text][/vc_column_text][/vc_column][vc_column width=“1/2″ icons_position=“left“][vc_column_text][/vc_column_text][/vc_column][/vc_row][vc_row full_width=“stretch_row“ hide_bg_image_on_tablet=““ hide_bg_image_on_mobile=““ shape_divider_top_front=““ shape_divider_bottom_front=““ row_delimiter=““ hide_on_desktop=““ hide_on_notebook=““ hide_on_tablet=““ hide_on_mobile=““ hide_on_frontpage=““][vc_column icons_position=“left“][vc_empty_space height=“0.5em“ alter_height=“none“ hide_on_desktop=““ hide_on_notebook=““ hide_on_tablet=““ hide_on_mobile=““][vc_column_text] \nGesponsert von:\n[/vc_column_text][/vc_column][/vc_row][vc_row full_width=“stretch_row“ hide_bg_image_on_tablet=““ hide_bg_image_on_mobile=““ row_delimiter=““ hide_on_desktop=““ hide_on_notebook=““ hide_on_tablet=““ hide_on_mobile=“1″ hide_on_frontpage=““][vc_column width=“1/2″ icons_position=“left“]			\n							\n			[vc_empty_space height=“1em“ alter_height=“none“ hide_on_desktop=““ hide_on_notebook=““ hide_on_tablet=““ hide_on_mobile=““][/vc_column][vc_column width=“1/2″ icons_position=“left“][/vc_column][/vc_row][vc_row full_width=“stretch_row“ hide_bg_image_on_tablet=““ hide_bg_image_on_mobile=““ row_delimiter=““ hide_on_desktop=“1″ hide_on_notebook=“1″ hide_on_tablet=“1″ hide_on_mobile=““ hide_on_frontpage=““][vc_column icons_position=“left“][vc_empty_space height=“1em“ alter_height=“none“ hide_on_desktop=““ hide_on_notebook=““ hide_on_tablet=““ hide_on_mobile=““][vc_single_image image=“3680″ img_size=“medium“ css=“.vc_custom_1705687468588{padding-top: 10px !important;padding-right: 10px !important;padding-bottom: 10px !important;padding-left: 10px !important;}“][vc_single_image image=“1797″ img_size=“medium“ css=“.vc_custom_1705687580206{padding-top: 10px !important;padding-right: 10px !important;}“][vc_empty_space height=“1em“ alter_height=“none“ hide_on_desktop=““ hide_on_notebook=““ hide_on_tablet=““ hide_on_mobile=““][/vc_column][/vc_row]
URL:https://edp-koeln.de/event/jenny-dont-and-the-spurs/
CATEGORIES:Konzert
ATTACH;FMTTYPE=image/jpeg:https://edp-koeln.de/wp-content/uploads/2024/02/spurs-new-lineup_Treefort_JVarga.jpg
END:VEVENT
END:VCALENDAR