BEGIN:VCALENDAR
VERSION:2.0
PRODID:-//E.D.P. - ECPv6.15.20//NONSGML v1.0//EN
CALSCALE:GREGORIAN
METHOD:PUBLISH
X-WR-CALNAME:E.D.P.
X-ORIGINAL-URL:https://edp-koeln.de
X-WR-CALDESC:Veranstaltungen für E.D.P.
REFRESH-INTERVAL;VALUE=DURATION:PT1H
X-Robots-Tag:noindex
X-PUBLISHED-TTL:PT1H
BEGIN:VTIMEZONE
TZID:Europe/Berlin
BEGIN:DAYLIGHT
TZOFFSETFROM:+0100
TZOFFSETTO:+0200
TZNAME:CEST
DTSTART:20240331T010000
END:DAYLIGHT
BEGIN:STANDARD
TZOFFSETFROM:+0200
TZOFFSETTO:+0100
TZNAME:CET
DTSTART:20241027T010000
END:STANDARD
BEGIN:DAYLIGHT
TZOFFSETFROM:+0100
TZOFFSETTO:+0200
TZNAME:CEST
DTSTART:20250330T010000
END:DAYLIGHT
BEGIN:STANDARD
TZOFFSETFROM:+0200
TZOFFSETTO:+0100
TZNAME:CET
DTSTART:20251026T010000
END:STANDARD
BEGIN:DAYLIGHT
TZOFFSETFROM:+0100
TZOFFSETTO:+0200
TZNAME:CEST
DTSTART:20260329T010000
END:DAYLIGHT
BEGIN:STANDARD
TZOFFSETFROM:+0200
TZOFFSETTO:+0100
TZNAME:CET
DTSTART:20261025T010000
END:STANDARD
END:VTIMEZONE
BEGIN:VEVENT
DTSTART;TZID=Europe/Berlin:20250606T200000
DTEND;TZID=Europe/Berlin:20250606T220000
DTSTAMP:20260424T112527
CREATED:20250313T110403Z
LAST-MODIFIED:20250313T110450Z
UID:4499-1749240000-1749247200@edp-koeln.de
SUMMARY:Jake La Botz
DESCRIPTION:[vc_row][vc_column icons_position=“left“][vc_row_inner][vc_column_inner width=“2/3″ icons_position=“left“][vc_column_text css=““] \nJake La Botz\nJake La Botz’s rough and tumble Chicago upbringing led him to learn blues from\nthe last of the pre-war era bluesmen. From there\, with guitar in tow\, he made hisway across the U.S.A. till he hit the end of the line in Hollywood where an improbable acting career began to unfold. \nAfter getting clean from heroin at thirty years old\, La Botz became a Buddhistmeditation practitioner and teacher. He also took his bluesy guitar chops to a BlackBaptist church in South Central L.A. where he steeped himself in gospel music.Ever since then La Botz has been putting out his own brand of Gospel-noir Americana. The eccentric stories\, characters\, and underlying spiritual messagesheard in his songs come to a head on his latest album Hair on Fire. \nAmong more than twenty film credits\, La Botz has acted inTrue Detective\, Rambo and On the Road. His most recent film D.O.A.\, stars fellow musician John Doefrom the band X. \nBeyond music and acting\, La Botz is also a writer. A graphic memoir in collaborationwith graphic novelist Nic Breutzman will soon be finished. La Botz’s short fiction canbe found in several literary magazines includingThe Inquisitive Eater\, MetonymLiterary Journal\, and The Museum of Americana. A book of short stories and anovella are in the works. \nThe Nuremberg-based Roots/Americana band Smokestack Lightnin‘ will once again be backing La Botz on his latest European tour. \nFr.06.06.25 | Einlass 19 h | Beginn 20 h[/vc_column_text][vc_empty_space height=“2em“ alter_height=“none“ hide_on_desktop=““ hide_on_notebook=““ hide_on_tablet=““ hide_on_mobile=““][/vc_column_inner][vc_column_inner width=“1/3″ icons_position=“left“][vc_empty_space height=“2em“ alter_height=“none“ hide_on_desktop=““ hide_on_notebook=““ hide_on_tablet=““ hide_on_mobile=““][/vc_column_inner][vc_column_inner width=“1/3″ icons_position=“left“]\n			Vorverkauf19\,80 Euro (Preis inklusive Gebühren) \nAbendkasse 21 € Jetzt kaufen[/vc_column_inner][/vc_row_inner][vc_empty_space height=“2em“ alter_height=“none“ hide_on_desktop=““ hide_on_notebook=““ hide_on_tablet=““ hide_on_mobile=““][vc_row_inner][vc_column_inner width=“1/2″ icons_position=“left“][vc_column_text css=““][/vc_column_text][/vc_column_inner][vc_column_inner width=“1/2″ icons_position=“left“][/vc_column_inner][/vc_row_inner][/vc_column][/vc_row][vc_row][vc_column icons_position=“left“][vc_column_text]\n[/vc_column_text][/vc_column][/vc_row][vc_row][vc_column icons_position=“left“][vc_column_text]\n[/vc_column_text][/vc_column][/vc_row][vc_row full_width=“stretch_row“ hide_bg_image_on_tablet=““ hide_bg_image_on_mobile=““ shape_divider_top_front=““ shape_divider_bottom_front=““ row_delimiter=““ hide_on_desktop=““ hide_on_notebook=““ hide_on_tablet=““ hide_on_mobile=““ hide_on_frontpage=““][vc_column icons_position=“left“][vc_empty_space height=“0.5em“ alter_height=“none“ hide_on_desktop=““ hide_on_notebook=““ hide_on_tablet=““ hide_on_mobile=““][vc_column_text] \nGesponsert von:\n[/vc_column_text][/vc_column][/vc_row][vc_row full_width=“stretch_row“ hide_bg_image_on_tablet=““ hide_bg_image_on_mobile=““ row_delimiter=““ hide_on_desktop=““ hide_on_notebook=““ hide_on_tablet=““ hide_on_mobile=“1″ hide_on_frontpage=““][vc_column width=“1/2″ icons_position=“left“]			\n							\n			[vc_empty_space height=“1em“ alter_height=“none“ hide_on_desktop=““ hide_on_notebook=““ hide_on_tablet=““ hide_on_mobile=““][/vc_column][vc_column width=“1/2″ icons_position=“left“][/vc_column][/vc_row][vc_row full_width=“stretch_row“ hide_bg_image_on_tablet=““ hide_bg_image_on_mobile=““ row_delimiter=““ hide_on_desktop=“1″ hide_on_notebook=“1″ hide_on_tablet=“1″ hide_on_mobile=““ hide_on_frontpage=““][vc_column icons_position=“left“][vc_empty_space height=“1em“ alter_height=“none“ hide_on_desktop=““ hide_on_notebook=““ hide_on_tablet=““ hide_on_mobile=““][vc_single_image image=“3680″ img_size=“medium“ css=“.vc_custom_1705687468588{padding-top: 10px !important;padding-right: 10px !important;padding-bottom: 10px !important;padding-left: 10px !important;}“][vc_single_image image=“1797″ img_size=“medium“ css=“.vc_custom_1705687580206{padding-top: 10px !important;padding-right: 10px !important;}“][vc_empty_space height=“1em“ alter_height=“none“ hide_on_desktop=““ hide_on_notebook=““ hide_on_tablet=““ hide_on_mobile=““][/vc_column][/vc_row]
URL:https://edp-koeln.de/event/jake-la-botz/
CATEGORIES:Konzert
ATTACH;FMTTYPE=image/jpeg:https://edp-koeln.de/wp-content/uploads/2025/03/Jan-Allaerts2.jpg
END:VEVENT
END:VCALENDAR