BEGIN:VCALENDAR
VERSION:2.0
PRODID:-//E.D.P. - ECPv6.15.20//NONSGML v1.0//EN
CALSCALE:GREGORIAN
METHOD:PUBLISH
X-ORIGINAL-URL:https://edp-koeln.de
X-WR-CALDESC:Veranstaltungen für E.D.P.
REFRESH-INTERVAL;VALUE=DURATION:PT1H
X-Robots-Tag:noindex
X-PUBLISHED-TTL:PT1H
BEGIN:VTIMEZONE
TZID:Europe/Berlin
BEGIN:DAYLIGHT
TZOFFSETFROM:+0100
TZOFFSETTO:+0200
TZNAME:CEST
DTSTART:20220327T010000
END:DAYLIGHT
BEGIN:STANDARD
TZOFFSETFROM:+0200
TZOFFSETTO:+0100
TZNAME:CET
DTSTART:20221030T010000
END:STANDARD
BEGIN:DAYLIGHT
TZOFFSETFROM:+0100
TZOFFSETTO:+0200
TZNAME:CEST
DTSTART:20230326T010000
END:DAYLIGHT
BEGIN:STANDARD
TZOFFSETFROM:+0200
TZOFFSETTO:+0100
TZNAME:CET
DTSTART:20231029T010000
END:STANDARD
BEGIN:DAYLIGHT
TZOFFSETFROM:+0100
TZOFFSETTO:+0200
TZNAME:CEST
DTSTART:20240331T010000
END:DAYLIGHT
BEGIN:STANDARD
TZOFFSETFROM:+0200
TZOFFSETTO:+0100
TZNAME:CET
DTSTART:20241027T010000
END:STANDARD
END:VTIMEZONE
BEGIN:VEVENT
DTSTART;TZID=Europe/Berlin:20230512T200000
DTEND;TZID=Europe/Berlin:20230512T220000
DTSTAMP:20260426T055004
CREATED:20230125T190605Z
LAST-MODIFIED:20230126T162727Z
UID:3342-1683921600-1683928800@edp-koeln.de
SUMMARY:1982
DESCRIPTION:[vc_row][vc_column icons_position=“left“][vc_row_inner][vc_column_inner width=“2/3″ icons_position=“left“][vc_column_text] \n1982\nPunkrock Zeitmaschine \n1982 haben eine Mission: Sie retten den Deutschpunk! Sie spielen die Hits der ersten deutschen Punkrockgeneration unzensiert und musikalisch authentischer als die Polizei erlaubt: Slime\, Canal Terror\, Toxoplasma\, Chaos Z\, Razzia und alles andere – und zwar so wie damals. \nDabei versetzen sie die Besucher in die Zeit zurück\, als Punk in der BRD noch gefährlich\, aufregend und unberechenbar war. 1982 sind eine Zeitmaschine\, die Pogo-Orgien auslöst und immer funktioniert. \nDas haben sie bereits auf unzähligen Konzerten in ganz Deutschland und sogar Frankreich bewiesen\, unter anderem beim Punk im Pott 2010\, beim Force Attack 2003\, Punx Picnic 2001 oder als Headliner beim Au-Fest 2008 und vielen anderen Festivals. \n1982 besteht aus drei Generationen Punx\, die ihre gemeinsamen Roots abfeiern. Drummer Dominik S. war Gitarrist bei Canal Terror. Klassiker wie „Staatsfeind“\, „Zu Spät“\, „Multis“ etc. stammen aus seiner Feder. \nSonstige Bands\, in denen die 1982er aktiv sind oder waren\, sind Molotow Soda\, F*cking Angry\, Canal Terror\, Alien Fight Club\, Wild Gift\, The Puke\, Estrella Negra\, The Gee Strings\, Back Chats\, F.F.F. etc. \nAlter Punk mit jugendlicher Hingabe! 1982 ist heute und besser! \nFr. 12.05.23 | Einlass 19 h | Beginn 20 h[/vc_column_text][/vc_column_inner][vc_column_inner width=“1/3″ icons_position=“left“][vc_empty_space height=“2em“ alter_height=“none“ hide_on_desktop=““ hide_on_notebook=““ hide_on_tablet=““ hide_on_mobile=““][/vc_column_inner][vc_column_inner width=“1/3″ icons_position=“left“]\n			Vorverkauf11 Euro Preis inklusive Gebühren \n(Abendkasse 12 Euro) Jetzt kaufen[/vc_column_inner][/vc_row_inner][vc_empty_space height=“2em“ alter_height=“none“ hide_on_desktop=““ hide_on_notebook=““ hide_on_tablet=““ hide_on_mobile=““][vc_row_inner][vc_column_inner width=“1/2″ icons_position=“left“][vc_column_text][/vc_column_text][/vc_column_inner][vc_column_inner width=“1/2″ icons_position=“left“][vc_column_text][/vc_column_text][/vc_column_inner][/vc_row_inner][/vc_column][/vc_row][vc_row full_width=“stretch_row“ hide_bg_image_on_tablet=““ hide_bg_image_on_mobile=““ row_delimiter=““ hide_on_desktop=““ hide_on_notebook=““ hide_on_tablet=““ hide_on_mobile=““ hide_on_frontpage=““][vc_column icons_position=“left“][vc_column_text] \nGesponsert von:\n[/vc_column_text][/vc_column][/vc_row][vc_row full_width=“stretch_row“ hide_bg_image_on_tablet=““ hide_bg_image_on_mobile=““ row_delimiter=““ hide_on_desktop=““ hide_on_notebook=““ hide_on_tablet=““ hide_on_mobile=“1″ hide_on_frontpage=““][vc_column icons_position=“left“]			\n							\n			[vc_empty_space height=“1em“ alter_height=“none“ hide_on_desktop=““ hide_on_notebook=““ hide_on_tablet=““ hide_on_mobile=““][/vc_column][/vc_row][vc_row full_width=“stretch_row“ hide_bg_image_on_tablet=““ hide_bg_image_on_mobile=““ row_delimiter=““ hide_on_desktop=“1″ hide_on_notebook=“1″ hide_on_tablet=“1″ hide_on_mobile=““ hide_on_frontpage=““][vc_column icons_position=“left“][vc_empty_space height=“1em“ alter_height=“none“ hide_on_desktop=““ hide_on_notebook=““ hide_on_tablet=““ hide_on_mobile=““][vc_single_image image=“1796″ img_size=“medium“][vc_single_image image=“1797″ img_size=“medium“][vc_single_image image=“2899″ img_size=“medium“][vc_empty_space height=“3em“ alter_height=“none“ hide_on_desktop=““ hide_on_notebook=““ hide_on_tablet=““ hide_on_mobile=““][/vc_column][/vc_row]
URL:https://edp-koeln.de/event/1982/
CATEGORIES:Konzert
ATTACH;FMTTYPE=image/jpeg:https://edp-koeln.de/wp-content/uploads/2023/01/1982-bonn.jpg
END:VEVENT
END:VCALENDAR