BEGIN:VCALENDAR
VERSION:2.0
PRODID:-//E.D.P. - ECPv6.15.20//NONSGML v1.0//EN
CALSCALE:GREGORIAN
METHOD:PUBLISH
X-ORIGINAL-URL:https://edp-koeln.de
X-WR-CALDESC:Veranstaltungen für E.D.P.
REFRESH-INTERVAL;VALUE=DURATION:PT1H
X-Robots-Tag:noindex
X-PUBLISHED-TTL:PT1H
BEGIN:VTIMEZONE
TZID:Europe/Berlin
BEGIN:DAYLIGHT
TZOFFSETFROM:+0100
TZOFFSETTO:+0200
TZNAME:CEST
DTSTART:20220327T010000
END:DAYLIGHT
BEGIN:STANDARD
TZOFFSETFROM:+0200
TZOFFSETTO:+0100
TZNAME:CET
DTSTART:20221030T010000
END:STANDARD
BEGIN:DAYLIGHT
TZOFFSETFROM:+0100
TZOFFSETTO:+0200
TZNAME:CEST
DTSTART:20230326T010000
END:DAYLIGHT
BEGIN:STANDARD
TZOFFSETFROM:+0200
TZOFFSETTO:+0100
TZNAME:CET
DTSTART:20231029T010000
END:STANDARD
BEGIN:DAYLIGHT
TZOFFSETFROM:+0100
TZOFFSETTO:+0200
TZNAME:CEST
DTSTART:20240331T010000
END:DAYLIGHT
BEGIN:STANDARD
TZOFFSETFROM:+0200
TZOFFSETTO:+0100
TZNAME:CET
DTSTART:20241027T010000
END:STANDARD
END:VTIMEZONE
BEGIN:VEVENT
DTSTART;TZID=Europe/Berlin:20231007T200000
DTEND;TZID=Europe/Berlin:20231007T223000
DTSTAMP:20260425T182839
CREATED:20230524T095947Z
LAST-MODIFIED:20230524T100425Z
UID:3519-1696708800-1696717800@edp-koeln.de
SUMMARY:Brigitte Handley
DESCRIPTION:[vc_row][vc_column icons_position=“left“][vc_row_inner][vc_column_inner width=“2/3″ icons_position=“left“][vc_column_text] \nBrigitte Handley\nBrigitte Handley ist eine australische Singer-Songwriterin und Gitarristin der Dark Shadows. \nBrigitte ist bekannt für ihre dunklen\, sphärischen Vocals\, Songs wie „After Dark“ und „Lament of a Lost Soul…“ und ihre fesselnden Solo-Electric-Shows\, mit atmosphärischen Video Kunst Projektionen\, Sound Effekten und dem elektrisierenden Sound ihrer schwarzen Gretsch. \nIhre neue Single „Köln“ wurde auf Select-A-Vision Records veröffentlicht (siehe unten das passende Video inklusive Außenansicht vom EDP!). \nSa. 07.10.23 | Einlass 19 h | Beginn 20 h[/vc_column_text][vc_empty_space height=“1em“ alter_height=“none“ hide_on_desktop=““ hide_on_notebook=““ hide_on_tablet=““ hide_on_mobile=““][/vc_column_inner][vc_column_inner width=“1/3″ icons_position=“left“][vc_empty_space height=“1em“ alter_height=“none“ hide_on_desktop=““ hide_on_notebook=““ hide_on_tablet=““ hide_on_mobile=““][/vc_column_inner][vc_column_inner width=“1/3″ icons_position=“left“]\n			Vorverkauf11 Euro Preis inklusive Gebühren \n(Abendkasse 12 Euro) Jetzt kaufen[/vc_column_inner][/vc_row_inner][vc_empty_space height=“2em“ alter_height=“none“ hide_on_desktop=““ hide_on_notebook=““ hide_on_tablet=““ hide_on_mobile=““][vc_row_inner][vc_column_inner width=“1/2″ icons_position=“left“][vc_video link=“https://youtu.be/1mj6Lr555MM“][vc_empty_space height=“1em“ alter_height=“none“ hide_on_desktop=“1″ hide_on_notebook=“1″ hide_on_tablet=““ hide_on_mobile=““][/vc_column_inner][vc_column_inner width=“1/2″ icons_position=“left“][vc_video link=“https://youtu.be/ehBAAdWY6jA“][vc_empty_space height=“1em“ alter_height=“none“ hide_on_desktop=“1″ hide_on_notebook=“1″ hide_on_tablet=““ hide_on_mobile=““][/vc_column_inner][/vc_row_inner][/vc_column][/vc_row]
URL:https://edp-koeln.de/event/brigitte-handley-2023/
CATEGORIES:Konzert
ATTACH;FMTTYPE=image/jpeg:https://edp-koeln.de/wp-content/uploads/2021/02/brigitte-handley-web.jpg
END:VEVENT
END:VCALENDAR