BEGIN:VCALENDAR
VERSION:2.0
PRODID:-//E.D.P. - ECPv6.15.20//NONSGML v1.0//EN
CALSCALE:GREGORIAN
METHOD:PUBLISH
X-ORIGINAL-URL:https://edp-koeln.de
X-WR-CALDESC:Veranstaltungen für E.D.P.
REFRESH-INTERVAL;VALUE=DURATION:PT1H
X-Robots-Tag:noindex
X-PUBLISHED-TTL:PT1H
BEGIN:VTIMEZONE
TZID:Europe/Berlin
BEGIN:DAYLIGHT
TZOFFSETFROM:+0100
TZOFFSETTO:+0200
TZNAME:CEST
DTSTART:20250330T010000
END:DAYLIGHT
BEGIN:STANDARD
TZOFFSETFROM:+0200
TZOFFSETTO:+0100
TZNAME:CET
DTSTART:20251026T010000
END:STANDARD
BEGIN:DAYLIGHT
TZOFFSETFROM:+0100
TZOFFSETTO:+0200
TZNAME:CEST
DTSTART:20260329T010000
END:DAYLIGHT
BEGIN:STANDARD
TZOFFSETFROM:+0200
TZOFFSETTO:+0100
TZNAME:CET
DTSTART:20261025T010000
END:STANDARD
BEGIN:DAYLIGHT
TZOFFSETFROM:+0100
TZOFFSETTO:+0200
TZNAME:CEST
DTSTART:20270328T010000
END:DAYLIGHT
BEGIN:STANDARD
TZOFFSETFROM:+0200
TZOFFSETTO:+0100
TZNAME:CET
DTSTART:20271031T010000
END:STANDARD
END:VTIMEZONE
BEGIN:VEVENT
DTSTART;TZID=Europe/Berlin:20260325T200000
DTEND;TZID=Europe/Berlin:20260325T220000
DTSTAMP:20260424T073311
CREATED:20251105T141311Z
LAST-MODIFIED:20260126T144348Z
UID:4731-1774468800-1774476000@edp-koeln.de
SUMMARY:WONK UNIT (UK) 2 shows - 2 sets | show 1von2
DESCRIPTION:[vc_row][vc_column icons_position=“left“][vc_row_inner][vc_column_inner width=“2/3″ icons_position=“left“][vc_column_text css=““] \nWONK UNIT | 2shows – 2sets | 1von2\nWONK UNIT ist eine der vielseitigsten und abwechslungsreichsten Bands\, die London im Moment zu bieten hat. 2005 wurden sie von Alex nach Auflösung der Punkband The Flying Medallions ins Leben gerufen. Punk in England war so tot und langweilig zu der Zeit. Doch mit dem zufälligen Aufeinandertreffen von Alex und zwei sehr talentierten Musikern\, Drummer Mez Clough und Gitarrist Gavin Kinch\, deren Art zu spielen Alex Songs plötzlich überfrisch erklingen ließen\, gab es eine neue Punkrockhoffnung. Eine in Europa einzigartige Band mit eigenem Sound\, eigenem Humor\, eigenem Festival und tief verwurzeltem DIY Background. Alex Brindle Johnson ist dabei als Lead Singer\, Poet\, Skater\, Stage Performer und kreativer Motor das Herz der Band\, von der nicht wenige behaupten\, dass es das derzeit Spannendste sei\, was es auf Europas Punkrockbühnen zu sehen gibt. Dazu passend Musik und Songs\, die sich nicht im Geringsten um Genregrenzen scheren und die doch zu jeder Zeit Alex Brindle Johnson und damit Wonk Unit sind. Punk braucht seit Jahren neuen Input und Wonk Unit liefern genau das. Auf der Bühne wird Mastermind Alex zur Dampfwalze und zelebriert ein Feuerwerk voller Energie\, Wut und Ironie. Textlich verarbeitet Alex sein Tagebuch. Dabei geht es zum Beispiel um Großmütter\, Freundinnen\, die sich in den Finger schneiden und Züge. Eine Band\, die live einfach nur Spass macht. Das alljährlich stattfindende Wonk Fest gehört inzwischen zum festen Bestandteil der Band\, auf welchem Jahr für Jahr befreundete Bands und natürlich auch Wonk Unit auftreten und das Jahr für Jahr ausverkauft ist. Ihr 8.Studioalbum „ Good Good Glad To Hear it“ (Pirates Press Rec) kam Anfang Dezember 2024 raus. \nMi.25.03.26 | Einlass 19 h | Beginn 20 h[/vc_column_text][vc_empty_space height=“2em“ alter_height=“none“ hide_on_desktop=““ hide_on_notebook=““ hide_on_tablet=““ hide_on_mobile=““][/vc_column_inner][vc_column_inner width=“1/3″ icons_position=“left“][vc_empty_space height=“2em“ alter_height=“none“ hide_on_desktop=““ hide_on_notebook=““ hide_on_tablet=““ hide_on_mobile=““][/vc_column_inner][vc_column_inner width=“1/3″ icons_position=“left“]\n			Vorverkauf18\,70 Euro (Preis inklusive Gebühren) \nAbendkasse 20 € Jetzt kaufen[/vc_column_inner][/vc_row_inner][vc_empty_space height=“2em“ alter_height=“none“ hide_on_desktop=““ hide_on_notebook=““ hide_on_tablet=““ hide_on_mobile=““][vc_row_inner][vc_column_inner width=“1/2″ icons_position=“left“][vc_column_text css=““][/vc_column_text][/vc_column_inner][vc_column_inner width=“1/2″ icons_position=“left“][/vc_column_inner][/vc_row_inner][/vc_column][/vc_row][vc_row][vc_column icons_position=“left“][vc_column_text]\n[/vc_column_text][/vc_column][/vc_row][vc_row][vc_column icons_position=“left“][vc_column_text]\n[/vc_column_text][/vc_column][/vc_row][vc_row full_width=“stretch_row“ hide_bg_image_on_tablet=““ hide_bg_image_on_mobile=““ shape_divider_top_front=““ shape_divider_bottom_front=““ row_delimiter=““ hide_on_desktop=““ hide_on_notebook=““ hide_on_tablet=““ hide_on_mobile=““ hide_on_frontpage=““][vc_column icons_position=“left“][vc_empty_space height=“0.5em“ alter_height=“none“ hide_on_desktop=““ hide_on_notebook=““ hide_on_tablet=““ hide_on_mobile=““][vc_column_text] \nGesponsert von:\n[/vc_column_text][/vc_column][/vc_row][vc_row full_width=“stretch_row“ hide_bg_image_on_tablet=““ hide_bg_image_on_mobile=““ row_delimiter=““ hide_on_desktop=““ hide_on_notebook=““ hide_on_tablet=““ hide_on_mobile=“1″ hide_on_frontpage=““][vc_column width=“1/2″ icons_position=“left“]			\n							\n			[vc_empty_space height=“1em“ alter_height=“none“ hide_on_desktop=““ hide_on_notebook=““ hide_on_tablet=““ hide_on_mobile=““][/vc_column][vc_column width=“1/2″ icons_position=“left“][/vc_column][/vc_row][vc_row full_width=“stretch_row“ hide_bg_image_on_tablet=““ hide_bg_image_on_mobile=““ row_delimiter=““ hide_on_desktop=“1″ hide_on_notebook=“1″ hide_on_tablet=“1″ hide_on_mobile=““ hide_on_frontpage=““][vc_column icons_position=“left“][vc_empty_space height=“1em“ alter_height=“none“ hide_on_desktop=““ hide_on_notebook=““ hide_on_tablet=““ hide_on_mobile=““][vc_single_image image=“3680″ img_size=“medium“ css=“.vc_custom_1705687468588{padding-top: 10px !important;padding-right: 10px !important;padding-bottom: 10px !important;padding-left: 10px !important;}“][vc_single_image image=“1797″ img_size=“medium“ css=“.vc_custom_1705687580206{padding-top: 10px !important;padding-right: 10px !important;}“][vc_empty_space height=“1em“ alter_height=“none“ hide_on_desktop=““ hide_on_notebook=““ hide_on_tablet=““ hide_on_mobile=““][/vc_column][/vc_row]
URL:https://edp-koeln.de/event/wonk-unit-uk-2/
CATEGORIES:Konzert
ATTACH;FMTTYPE=image/jpeg:https://edp-koeln.de/wp-content/uploads/2025/11/Wonk-Unit-2025-3-Kopie.jpg
END:VEVENT
BEGIN:VEVENT
DTSTART;TZID=Europe/Berlin:20260326T200000
DTEND;TZID=Europe/Berlin:20260326T220000
DTSTAMP:20260424T073311
CREATED:20251105T141644Z
LAST-MODIFIED:20260126T144331Z
UID:4734-1774555200-1774562400@edp-koeln.de
SUMMARY:WONK UNIT (UK) 2 shows - 2 sets | show 2von2
DESCRIPTION:[vc_row][vc_column icons_position=“left“][vc_row_inner][vc_column_inner width=“2/3″ icons_position=“left“][vc_column_text css=““] \nWONK UNIT | 2shows – 2sets | 2von2\nWONK UNIT ist eine der vielseitigsten und abwechslungsreichsten Bands\, die London im Moment zu bieten hat. 2005 wurden sie von Alex nach Auflösung der Punkband The Flying Medallions ins Leben gerufen. Punk in England war so tot und langweilig zu der Zeit. Doch mit dem zufälligen Aufeinandertreffen von Alex und zwei sehr talentierten Musikern\, Drummer Mez Clough und Gitarrist Gavin Kinch\, deren Art zu spielen Alex Songs plötzlich überfrisch erklingen ließen\, gab es eine neue Punkrockhoffnung. Eine in Europa einzigartige Band mit eigenem Sound\, eigenem Humor\, eigenem Festival und tief verwurzeltem DIY Background. Alex Brindle Johnson ist dabei als Lead Singer\, Poet\, Skater\, Stage Performer und kreativer Motor das Herz der Band\, von der nicht wenige behaupten\, dass es das derzeit Spannendste sei\, was es auf Europas Punkrockbühnen zu sehen gibt. Dazu passend Musik und Songs\, die sich nicht im Geringsten um Genregrenzen scheren und die doch zu jeder Zeit Alex Brindle Johnson und damit Wonk Unit sind. Punk braucht seit Jahren neuen Input und Wonk Unit liefern genau das. Auf der Bühne wird Mastermind Alex zur Dampfwalze und zelebriert ein Feuerwerk voller Energie\, Wut und Ironie. Textlich verarbeitet Alex sein Tagebuch. Dabei geht es zum Beispiel um Großmütter\, Freundinnen\, die sich in den Finger schneiden und Züge. Eine Band\, die live einfach nur Spass macht. Das alljährlich stattfindende Wonk Fest gehört inzwischen zum festen Bestandteil der Band\, auf welchem Jahr für Jahr befreundete Bands und natürlich auch Wonk Unit auftreten und das Jahr für Jahr ausverkauft ist. Ihr 8.Studioalbum „ Good Good Glad To Hear it“ (Pirates Press Rec) kam Anfang Dezember 2024 raus. \nDo. 26.03.26 | Einlass 19 h | Beginn 20 h[/vc_column_text][vc_empty_space height=“2em“ alter_height=“none“ hide_on_desktop=““ hide_on_notebook=““ hide_on_tablet=““ hide_on_mobile=““][/vc_column_inner][vc_column_inner width=“1/3″ icons_position=“left“][vc_empty_space height=“2em“ alter_height=“none“ hide_on_desktop=““ hide_on_notebook=““ hide_on_tablet=““ hide_on_mobile=““][/vc_column_inner][vc_column_inner width=“1/3″ icons_position=“left“]\n			Vorverkauf18\,70 Euro (Preis inklusive Gebühren) \nAbendkasse 20 € Jetzt kaufen[/vc_column_inner][/vc_row_inner][vc_empty_space height=“2em“ alter_height=“none“ hide_on_desktop=““ hide_on_notebook=““ hide_on_tablet=““ hide_on_mobile=““][vc_row_inner][vc_column_inner width=“1/2″ icons_position=“left“][vc_column_text css=““][/vc_column_text][/vc_column_inner][vc_column_inner width=“1/2″ icons_position=“left“][/vc_column_inner][/vc_row_inner][/vc_column][/vc_row][vc_row][vc_column icons_position=“left“][vc_column_text]\n[/vc_column_text][/vc_column][/vc_row][vc_row][vc_column icons_position=“left“][vc_column_text]\n[/vc_column_text][/vc_column][/vc_row][vc_row full_width=“stretch_row“ hide_bg_image_on_tablet=““ hide_bg_image_on_mobile=““ shape_divider_top_front=““ shape_divider_bottom_front=““ row_delimiter=““ hide_on_desktop=““ hide_on_notebook=““ hide_on_tablet=““ hide_on_mobile=““ hide_on_frontpage=““][vc_column icons_position=“left“][vc_empty_space height=“0.5em“ alter_height=“none“ hide_on_desktop=““ hide_on_notebook=““ hide_on_tablet=““ hide_on_mobile=““][vc_column_text] \nGesponsert von:\n[/vc_column_text][/vc_column][/vc_row][vc_row full_width=“stretch_row“ hide_bg_image_on_tablet=““ hide_bg_image_on_mobile=““ row_delimiter=““ hide_on_desktop=““ hide_on_notebook=““ hide_on_tablet=““ hide_on_mobile=“1″ hide_on_frontpage=““][vc_column width=“1/2″ icons_position=“left“]			\n							\n			[vc_empty_space height=“1em“ alter_height=“none“ hide_on_desktop=““ hide_on_notebook=““ hide_on_tablet=““ hide_on_mobile=““][/vc_column][vc_column width=“1/2″ icons_position=“left“][/vc_column][/vc_row][vc_row full_width=“stretch_row“ hide_bg_image_on_tablet=““ hide_bg_image_on_mobile=““ row_delimiter=““ hide_on_desktop=“1″ hide_on_notebook=“1″ hide_on_tablet=“1″ hide_on_mobile=““ hide_on_frontpage=““][vc_column icons_position=“left“][vc_empty_space height=“1em“ alter_height=“none“ hide_on_desktop=““ hide_on_notebook=““ hide_on_tablet=““ hide_on_mobile=““][vc_single_image image=“3680″ img_size=“medium“ css=“.vc_custom_1705687468588{padding-top: 10px !important;padding-right: 10px !important;padding-bottom: 10px !important;padding-left: 10px !important;}“][vc_single_image image=“1797″ img_size=“medium“ css=“.vc_custom_1705687580206{padding-top: 10px !important;padding-right: 10px !important;}“][vc_empty_space height=“1em“ alter_height=“none“ hide_on_desktop=““ hide_on_notebook=““ hide_on_tablet=““ hide_on_mobile=““][/vc_column][/vc_row]
URL:https://edp-koeln.de/event/wonk-unit-uk-2-shows-2-sets-show-2von2/
CATEGORIES:Konzert
ATTACH;FMTTYPE=image/jpeg:https://edp-koeln.de/wp-content/uploads/2025/11/Wonk-Unit-2025-3-Kopie.jpg
END:VEVENT
END:VCALENDAR