BEGIN:VCALENDAR
VERSION:2.0
PRODID:-//E.D.P. - ECPv6.15.20//NONSGML v1.0//EN
CALSCALE:GREGORIAN
METHOD:PUBLISH
X-WR-CALNAME:E.D.P.
X-ORIGINAL-URL:https://edp-koeln.de
X-WR-CALDESC:Veranstaltungen für E.D.P.
REFRESH-INTERVAL;VALUE=DURATION:PT1H
X-Robots-Tag:noindex
X-PUBLISHED-TTL:PT1H
BEGIN:VTIMEZONE
TZID:Europe/Berlin
BEGIN:DAYLIGHT
TZOFFSETFROM:+0100
TZOFFSETTO:+0200
TZNAME:CEST
DTSTART:20230326T010000
END:DAYLIGHT
BEGIN:STANDARD
TZOFFSETFROM:+0200
TZOFFSETTO:+0100
TZNAME:CET
DTSTART:20231029T010000
END:STANDARD
BEGIN:DAYLIGHT
TZOFFSETFROM:+0100
TZOFFSETTO:+0200
TZNAME:CEST
DTSTART:20240331T010000
END:DAYLIGHT
BEGIN:STANDARD
TZOFFSETFROM:+0200
TZOFFSETTO:+0100
TZNAME:CET
DTSTART:20241027T010000
END:STANDARD
BEGIN:DAYLIGHT
TZOFFSETFROM:+0100
TZOFFSETTO:+0200
TZNAME:CEST
DTSTART:20250330T010000
END:DAYLIGHT
BEGIN:STANDARD
TZOFFSETFROM:+0200
TZOFFSETTO:+0100
TZNAME:CET
DTSTART:20251026T010000
END:STANDARD
END:VTIMEZONE
BEGIN:VEVENT
DTSTART;TZID=Europe/Berlin:20241010T200000
DTEND;TZID=Europe/Berlin:20241010T220000
DTSTAMP:20260425T030320
CREATED:20240827T194033Z
LAST-MODIFIED:20240914T120134Z
UID:4121-1728590400-1728597600@edp-koeln.de
SUMMARY:Knarf Rellöm Arkestra + Bernadette LaHengst
DESCRIPTION:[vc_row][vc_column icons_position=“left“][vc_row_inner][vc_column_inner width=“2/3″ icons_position=“left“][vc_column_text] \nE.D.P. Veranstaltung in der BüzE\nAdresse: Venloer Str. 429\, 50825 Köln (gegenüber vom E.D.P.) \nKNARF RELLÖM ARKESTRA\nKNARF RELLÖM ARKESTRA …fachgerecht beschreiben? Vermutlich so: Tanzbar\, politisch\, Funk\, House\, Dub\, Kraut-Rock. Knarf Rellöm haut sein Zeug raus\, und das sehr mitreissend. \nOriginelles Alroundgenie\, Spinner\, Parolen-auf-dem-Punkt-Bringer mit furioser Superpower. Aktuell zu dritt auf der Bühne. Fazit: Genug Gründe sich das KNARF RELLÖM ARKESTRA sofort live mit zu erleben und danach zu Hause mehrfach die Platten nachzuhören. \nBernadette La Hengst\nBei ihren Konzerten versteht es Bernadette La Hengst\, ihr Publikum mit Electro-Dance-Ohrwürmern\, Krautbeat und swingendem Loverssoul mitzureißen. Die Beats sind fett\, der Charme entwaffnend. Politisch\, feministisch – Bernadette vereint Standpunkt und Revolte magisch groovend. \nDie Energie ihrer ehemaligen Band „Die Braut haut ins Auge“ sprüht immer noch Funken\, die aktuell von ihrer wechselnden Begleitband\, den Ladettes\, weitergetragen werden. \nDo. 10.10.24 | Einlass 19 h | Beginn 20 h[/vc_column_text][vc_empty_space height=“2em“ alter_height=“none“ hide_on_desktop=““ hide_on_notebook=““ hide_on_tablet=““ hide_on_mobile=““][/vc_column_inner][vc_column_inner width=“1/3″ icons_position=“left“][vc_empty_space height=“2em“ alter_height=“none“ hide_on_desktop=““ hide_on_notebook=““ hide_on_tablet=““ hide_on_mobile=““][/vc_column_inner][vc_column_inner width=“1/3″ icons_position=“left“]\n			Vorverkauf19\,80 Euro Preis inklusive Gebühren \n(Abendkasse 24 Euro) Jetzt kaufen[vc_empty_space height=“2em“ alter_height=“none“ hide_on_desktop=““ hide_on_notebook=““ hide_on_tablet=““ hide_on_mobile=““][/vc_column_inner][/vc_row_inner][/vc_column][/vc_row][vc_row][vc_column width=“1/2″ icons_position=“left“][vc_column_text][/vc_column_text][/vc_column][vc_column width=“1/2″ icons_position=“left“][vc_column_text][/vc_column_text][/vc_column][/vc_row][vc_row full_width=“stretch_row“ hide_bg_image_on_tablet=““ hide_bg_image_on_mobile=““ shape_divider_top_front=““ shape_divider_bottom_front=““ row_delimiter=““ hide_on_desktop=““ hide_on_notebook=““ hide_on_tablet=““ hide_on_mobile=““ hide_on_frontpage=““][vc_column icons_position=“left“][vc_empty_space height=“0.5em“ alter_height=“none“ hide_on_desktop=““ hide_on_notebook=““ hide_on_tablet=““ hide_on_mobile=““][vc_column_text] \nGesponsert von:\n[/vc_column_text][/vc_column][/vc_row][vc_row full_width=“stretch_row“ hide_bg_image_on_tablet=““ hide_bg_image_on_mobile=““ row_delimiter=““ hide_on_desktop=““ hide_on_notebook=““ hide_on_tablet=““ hide_on_mobile=“1″ hide_on_frontpage=““][vc_column width=“1/2″ icons_position=“left“][vc_single_image image=“3680″ img_size=“medium“ css=“.vc_custom_1705687468588{padding-top: 10px !important;padding-right: 10px !important;padding-bottom: 10px !important;padding-left: 10px !important;}“][vc_empty_space height=“1em“ alter_height=“none“ hide_on_desktop=““ hide_on_notebook=““ hide_on_tablet=““ hide_on_mobile=““][/vc_column][vc_column width=“1/2″ icons_position=“left“][/vc_column][/vc_row][vc_row full_width=“stretch_row“ hide_bg_image_on_tablet=““ hide_bg_image_on_mobile=““ row_delimiter=““ hide_on_desktop=“1″ hide_on_notebook=“1″ hide_on_tablet=“1″ hide_on_mobile=““ hide_on_frontpage=““][vc_column icons_position=“left“][vc_empty_space height=“1em“ alter_height=“none“ hide_on_desktop=““ hide_on_notebook=““ hide_on_tablet=““ hide_on_mobile=““][vc_single_image image=“3680″ img_size=“medium“ css=“.vc_custom_1705687468588{padding-top: 10px !important;padding-right: 10px !important;padding-bottom: 10px !important;padding-left: 10px !important;}“][vc_empty_space height=“1em“ alter_height=“none“ hide_on_desktop=““ hide_on_notebook=““ hide_on_tablet=““ hide_on_mobile=““][/vc_column][/vc_row]
URL:https://edp-koeln.de/event/knarf-relloem-bernadette-lahengst/
CATEGORIES:Konzert
ATTACH;FMTTYPE=image/jpeg:https://edp-koeln.de/wp-content/uploads/2024/08/knarf-hengst.jpg
END:VEVENT
END:VCALENDAR