BEGIN:VCALENDAR
VERSION:2.0
PRODID:-//E.D.P. - ECPv6.15.20//NONSGML v1.0//EN
CALSCALE:GREGORIAN
METHOD:PUBLISH
X-ORIGINAL-URL:https://edp-koeln.de
X-WR-CALDESC:Veranstaltungen für E.D.P.
REFRESH-INTERVAL;VALUE=DURATION:PT1H
X-Robots-Tag:noindex
X-PUBLISHED-TTL:PT1H
BEGIN:VTIMEZONE
TZID:Europe/Berlin
BEGIN:DAYLIGHT
TZOFFSETFROM:+0100
TZOFFSETTO:+0200
TZNAME:CEST
DTSTART:20240331T010000
END:DAYLIGHT
BEGIN:STANDARD
TZOFFSETFROM:+0200
TZOFFSETTO:+0100
TZNAME:CET
DTSTART:20241027T010000
END:STANDARD
BEGIN:DAYLIGHT
TZOFFSETFROM:+0100
TZOFFSETTO:+0200
TZNAME:CEST
DTSTART:20250330T010000
END:DAYLIGHT
BEGIN:STANDARD
TZOFFSETFROM:+0200
TZOFFSETTO:+0100
TZNAME:CET
DTSTART:20251026T010000
END:STANDARD
BEGIN:DAYLIGHT
TZOFFSETFROM:+0100
TZOFFSETTO:+0200
TZNAME:CEST
DTSTART:20260329T010000
END:DAYLIGHT
BEGIN:STANDARD
TZOFFSETFROM:+0200
TZOFFSETTO:+0100
TZNAME:CET
DTSTART:20261025T010000
END:STANDARD
END:VTIMEZONE
BEGIN:VEVENT
DTSTART;TZID=Europe/Berlin:20251009T200000
DTEND;TZID=Europe/Berlin:20251009T220000
DTSTAMP:20260424T092258
CREATED:20250708T111643Z
LAST-MODIFIED:20250708T113909Z
UID:4592-1760040000-1760047200@edp-koeln.de
SUMMARY:Gong Wah
DESCRIPTION:[vc_row][vc_column icons_position=“left“][vc_row_inner][vc_column_inner width=“2/3″ icons_position=“left“][vc_column_text css=““] \nGong Wah\nGONG WAH wurde 2017 von Gitarrist Thorsten Dohle und Sängerin Inga Nelke zunächst als Duo mit Drum Machine gegründet. Schon kurz darauf kam Felix Will\, ebenfalls Gitarrist\, dazu. In einem dunklen\, fast höhlenartigen Proberaum entstehen erste Demos und vor allem: ein eigener Sound. Ihre Mischung aus Verzerrten Gitarren\, kühlem New Wave und eingängigen Songs nennt die Band selbst Fuzzwave. Als Trio\, mit Drums und Bass von einem Tapedeck abgespielt\, fanden erste kleinere Guerilla-Gigs statt. \n2018 kamen mit Bassist Giso Simon und Schlagzeuger Nima Davari zwei neue Mitglieder dazu und GONG WAH wurden ein Quintett. In dieser Besetzung wurden das Debüt „GONG WAH“ (2020) und der Nachfolger „A SECOND“ (2022) eingespielt. Beide Alben sind auf Tonzonen Records erschienen und wurden von der internationalen Presse wohlwollend aufgenommen\, die Single „This Life“ schaffte es sogar bis auf Platz 14 in den Deutschen Alternative Charts. Es folgten diverse Konzerte und Festival- Auftritte. Ende 2023 verließen Giso Simon und Nima Davari GONG WAH. \nWieder in der ursprünglichen Trio-Besetzung\, nahmen GONG WAH Anfang 2024 ihr drittes Album „THE HEALING VOLUME“ auf\, das am 11.04.2025 auf Tonzonen erscheint. Wie die Vorgänger wurde auch „THE HEALING VOLUME“ von der Band selbst im eigenen Studio produziert. Im Herbst 2024 kamen mit Bassist Ingo Ruttke und Drummer Wolly Düse nicht nur zwei exzellente neue Musiker dazu\, sondern auch zwei alte Freunde. Mit dem neuen Album und in neuer Besetzung kehren GONG WAH 2025 auf die Bühne zurück.\nGONG WAH\nInga Nelke – Vocals\nThorsten Dohle – Guitar/Synth/Vocals\nFelix Will – Guitar/Synth/Vocals\nWolly Düse – Drums\nIngo Ruttke – Bass \nDo.09.10.25 | Einlass 19 h | Beginn 20 h[/vc_column_text][vc_empty_space height=“2em“ alter_height=“none“ hide_on_desktop=““ hide_on_notebook=““ hide_on_tablet=““ hide_on_mobile=““][/vc_column_inner][vc_column_inner width=“1/3″ icons_position=“left“][vc_empty_space height=“2em“ alter_height=“none“ hide_on_desktop=““ hide_on_notebook=““ hide_on_tablet=““ hide_on_mobile=““][/vc_column_inner][vc_column_inner width=“1/3″ icons_position=“left“]\n			Vorverkauf16\,50 Euro (Preis inklusive Gebühren) \nAbendkasse 18 € Jetzt kaufen[/vc_column_inner][/vc_row_inner][vc_empty_space height=“2em“ alter_height=“none“ hide_on_desktop=““ hide_on_notebook=““ hide_on_tablet=““ hide_on_mobile=““][vc_row_inner][vc_column_inner width=“1/2″ icons_position=“left“][vc_column_text css=““][/vc_column_text][/vc_column_inner][vc_column_inner width=“1/2″ icons_position=“left“][/vc_column_inner][/vc_row_inner][/vc_column][/vc_row][vc_row][vc_column icons_position=“left“][vc_column_text]\n[/vc_column_text][/vc_column][/vc_row][vc_row][vc_column icons_position=“left“][vc_column_text]\n[/vc_column_text][/vc_column][/vc_row][vc_row full_width=“stretch_row“ hide_bg_image_on_tablet=““ hide_bg_image_on_mobile=““ shape_divider_top_front=““ shape_divider_bottom_front=““ row_delimiter=““ hide_on_desktop=““ hide_on_notebook=““ hide_on_tablet=““ hide_on_mobile=““ hide_on_frontpage=““][vc_column icons_position=“left“][vc_empty_space height=“0.5em“ alter_height=“none“ hide_on_desktop=““ hide_on_notebook=““ hide_on_tablet=““ hide_on_mobile=““][vc_column_text] \nGesponsert von:\n[/vc_column_text][/vc_column][/vc_row][vc_row full_width=“stretch_row“ hide_bg_image_on_tablet=““ hide_bg_image_on_mobile=““ row_delimiter=““ hide_on_desktop=““ hide_on_notebook=““ hide_on_tablet=““ hide_on_mobile=“1″ hide_on_frontpage=““][vc_column width=“1/2″ icons_position=“left“]			\n							\n			[vc_empty_space height=“1em“ alter_height=“none“ hide_on_desktop=““ hide_on_notebook=““ hide_on_tablet=““ hide_on_mobile=““][/vc_column][vc_column width=“1/2″ icons_position=“left“][/vc_column][/vc_row][vc_row full_width=“stretch_row“ hide_bg_image_on_tablet=““ hide_bg_image_on_mobile=““ row_delimiter=““ hide_on_desktop=“1″ hide_on_notebook=“1″ hide_on_tablet=“1″ hide_on_mobile=““ hide_on_frontpage=““][vc_column icons_position=“left“][vc_empty_space height=“1em“ alter_height=“none“ hide_on_desktop=““ hide_on_notebook=““ hide_on_tablet=““ hide_on_mobile=““][vc_single_image image=“3680″ img_size=“medium“ css=“.vc_custom_1705687468588{padding-top: 10px !important;padding-right: 10px !important;padding-bottom: 10px !important;padding-left: 10px !important;}“][vc_single_image image=“1797″ img_size=“medium“ css=“.vc_custom_1705687580206{padding-top: 10px !important;padding-right: 10px !important;}“][vc_empty_space height=“1em“ alter_height=“none“ hide_on_desktop=““ hide_on_notebook=““ hide_on_tablet=““ hide_on_mobile=““][/vc_column][/vc_row]
URL:https://edp-koeln.de/event/gong-wah/
CATEGORIES:Konzert
ATTACH;FMTTYPE=image/jpeg:https://edp-koeln.de/wp-content/uploads/2025/07/gongwah_homepage.jpg
END:VEVENT
END:VCALENDAR