BEGIN:VCALENDAR
VERSION:2.0
PRODID:-//E.D.P. - ECPv6.15.20//NONSGML v1.0//EN
CALSCALE:GREGORIAN
METHOD:PUBLISH
X-ORIGINAL-URL:https://edp-koeln.de
X-WR-CALDESC:Veranstaltungen für E.D.P.
REFRESH-INTERVAL;VALUE=DURATION:PT1H
X-Robots-Tag:noindex
X-PUBLISHED-TTL:PT1H
BEGIN:VTIMEZONE
TZID:Europe/Berlin
BEGIN:DAYLIGHT
TZOFFSETFROM:+0100
TZOFFSETTO:+0200
TZNAME:CEST
DTSTART:20250330T010000
END:DAYLIGHT
BEGIN:STANDARD
TZOFFSETFROM:+0200
TZOFFSETTO:+0100
TZNAME:CET
DTSTART:20251026T010000
END:STANDARD
BEGIN:DAYLIGHT
TZOFFSETFROM:+0100
TZOFFSETTO:+0200
TZNAME:CEST
DTSTART:20260329T010000
END:DAYLIGHT
BEGIN:STANDARD
TZOFFSETFROM:+0200
TZOFFSETTO:+0100
TZNAME:CET
DTSTART:20261025T010000
END:STANDARD
BEGIN:DAYLIGHT
TZOFFSETFROM:+0100
TZOFFSETTO:+0200
TZNAME:CEST
DTSTART:20270328T010000
END:DAYLIGHT
BEGIN:STANDARD
TZOFFSETFROM:+0200
TZOFFSETTO:+0100
TZNAME:CET
DTSTART:20271031T010000
END:STANDARD
END:VTIMEZONE
BEGIN:VEVENT
DTSTART;TZID=Europe/Berlin:20260305T193000
DTEND;TZID=Europe/Berlin:20260305T233000
DTSTAMP:20260423T152342
CREATED:20260108T160907Z
LAST-MODIFIED:20260108T160907Z
UID:4771-1772739000-1772753400@edp-koeln.de
SUMMARY:Die Braut haut ins Auge
DESCRIPTION:[vc_row][vc_column icons_position=“left“][vc_empty_space height=“2em“ alter_height=“none“ hide_on_desktop=““ hide_on_notebook=““ hide_on_tablet=““ hide_on_mobile=““][vc_row_inner][vc_column_inner width=“2/3″ icons_position=“left“][vc_column_text css=““] \nE.D.P. Veranstaltung in der BüzE\nAdresse: Venloer Str. 429\, 50825 Köln (gegenüber vom E.D.P.) \nDie Braut haut ins Auge\nDIE BRAUT HAUT INS AUGE \n2024 scheint das Jahr von Die Braut Haut Ins Auge zu sein\, obwohl sich die Band bereits Ende der 90er Jahre aufgelöst hat. Zuerst veröffentlicht das Münchner Trikont-Label erstmals alle Alben der Band digital\, im Oktober 2024 kam dann „Die Braut haut ins Auge Hits 1990 – 2000“ exklusiv auf Vinyl heraus. Obendrauf brachte die Band mit „Was nehm ich mit?“ im Dezember 2024 erstmals ein Album komplett live auf die Bühne. \nJa\, Die Braut Haut Ins Auge war tatsächlich die einzige Frauen-Band der sogenannten Hamburger Schule! Gleich mit ihrem ersten Longplayer werden sie vom Major BMG/Ariola gesignt. Die Erwartungen sind groß\, die Szene lebendig\, die Zeit scheint reif. Doch für den ganz großen kommerziellen Durchbruch ist der Sound der Band vielleicht doch zu undergroundig\, zu individuell\, zu verspielt. „Was Nehm Ich Mit?“ beginnt stilgerecht mit einem Cover des ewigen Pop-Underdogs Jonathan Richman\, „Tandem-Sprung“. Der Sound der Platte ist vielfältig\, von Indie-Krachern geht es über Sixties-Beat bis zum Alternative Country. Auch die psychedelischen Klänge des amerikanischen Paisley Undergrounds aus den1980er Jahren scheinen ein Einfluss zu sein\, eine Retro-Orgel ist omnipräsent auf der Platte. \nDie Texte sind witzig\, kreativ\, und auf dem titelgebenden Track auch absurd-melancholisch: „Die Sirenen heulen\, der Himmel ist feuerrot / Ich lieg im Bett und wünschte\, ich wär‘ tot … und die Frage aller Fragen\, um die alles kreist / Ist das\, was ich nicht weiß: / Was nehm ich mit\, wenn es Krieg gibt?“ Mit „Pop Ist Tot“ erscheint 1998 das finale Album von „Die Braut Haut Ins Auge“\, zum Indie Hit „Wenn du gehst“ gibt es ein Musikvideo\, das auf diversen Videokanälen in Rotation geht. \nNach Auflösung der Band verfolgt Bernadette La Hengst erfolgreich ihre Solokarriere mit bis heute acht Album-Veröffentlichungen und Projekten an diversen Theatern. Peta Devlin war und ist ebenfalls weiterhin äußerst umtriebig als Mitglied von Bands wie Cow\, Oma Hans und Bela B. mit Smokestack Lightnin’\, die All-Female Bands Hoo Doo Girl und Mars Needs Women sowie als Musik und Hörspielproduzentin. \nBernadette La Hengst: Gesang\, Gitarre \nPeta Devlin: Gesang\, Bass \nElla Mae Hengst: Keyboards \nKatharina Lattke: Schlagzeug \n© Foto: Horst Müller \nDo.05.03.26 | Einlass 19:30 h | Beginn 20:30 h[/vc_column_text][vc_empty_space height=“2em“ alter_height=“none“ hide_on_desktop=““ hide_on_notebook=““ hide_on_tablet=““ hide_on_mobile=““][/vc_column_inner][vc_column_inner width=“1/3″ icons_position=“left“][vc_empty_space height=“2em“ alter_height=“none“ hide_on_desktop=““ hide_on_notebook=““ hide_on_tablet=““ hide_on_mobile=““][/vc_column_inner][vc_column_inner width=“1/3″ icons_position=“left“]\n			Vorverkauf28\,60 Euro (Preis inklusive Gebühren) \nAbendkasse 30 € Jetzt kaufen[/vc_column_inner][/vc_row_inner][vc_row_inner][vc_column_inner width=“1/2″ icons_position=“left“][vc_column_text css=““][/vc_column_text][/vc_column_inner][vc_column_inner width=“1/2″ icons_position=“left“][/vc_column_inner][/vc_row_inner][/vc_column][/vc_row][vc_row][vc_column icons_position=“left“][vc_column_text]\n[/vc_column_text][/vc_column][/vc_row][vc_row][vc_column icons_position=“left“][vc_column_text]\n[/vc_column_text][/vc_column][/vc_row][vc_row full_width=“stretch_row“ hide_bg_image_on_tablet=““ hide_bg_image_on_mobile=““ shape_divider_top_front=““ shape_divider_bottom_front=““ row_delimiter=““ hide_on_desktop=““ hide_on_notebook=““ hide_on_tablet=““ hide_on_mobile=““ hide_on_frontpage=““][vc_column icons_position=“left“][vc_empty_space height=“0.5em“ alter_height=“none“ hide_on_desktop=““ hide_on_notebook=““ hide_on_tablet=““ hide_on_mobile=““][vc_column_text] \nGesponsert von:\n[/vc_column_text][/vc_column][/vc_row][vc_row full_width=“stretch_row“ hide_bg_image_on_tablet=““ hide_bg_image_on_mobile=““ row_delimiter=““ hide_on_desktop=““ hide_on_notebook=““ hide_on_tablet=““ hide_on_mobile=“1″ hide_on_frontpage=““][vc_column width=“1/2″ icons_position=“left“]			\n							\n			[vc_empty_space height=“1em“ alter_height=“none“ hide_on_desktop=““ hide_on_notebook=““ hide_on_tablet=““ hide_on_mobile=““][/vc_column][vc_column width=“1/2″ icons_position=“left“][/vc_column][/vc_row][vc_row full_width=“stretch_row“ hide_bg_image_on_tablet=““ hide_bg_image_on_mobile=““ row_delimiter=““ hide_on_desktop=“1″ hide_on_notebook=“1″ hide_on_tablet=“1″ hide_on_mobile=““ hide_on_frontpage=““][vc_column icons_position=“left“][vc_empty_space height=“1em“ alter_height=“none“ hide_on_desktop=““ hide_on_notebook=““ hide_on_tablet=““ hide_on_mobile=““][vc_single_image image=“3680″ img_size=“medium“ css=“.vc_custom_1705687468588{padding-top: 10px !important;padding-right: 10px !important;padding-bottom: 10px !important;padding-left: 10px !important;}“][vc_empty_space height=“1em“ alter_height=“none“ hide_on_desktop=““ hide_on_notebook=““ hide_on_tablet=““ hide_on_mobile=““][/vc_column][/vc_row]
URL:https://edp-koeln.de/event/die-braut-haut-ins-auge/
CATEGORIES:Konzert
ATTACH;FMTTYPE=image/jpeg:https://edp-koeln.de/wp-content/uploads/2026/01/DieBrautHautInsAuge-01-photo-by-Horst-Mueller-Kopie_hp.jpg
END:VEVENT
BEGIN:VEVENT
DTSTART;TZID=Europe/Berlin:20260318T200000
DTEND;TZID=Europe/Berlin:20260318T220000
DTSTAMP:20260423T152342
CREATED:20260124T141321Z
LAST-MODIFIED:20260310T150941Z
UID:4781-1773864000-1773871200@edp-koeln.de
SUMMARY:SPYRES (SCO) + support: WILDIVE
DESCRIPTION:[vc_row][vc_column icons_position=“left“][vc_row_inner][vc_column_inner width=“2/3″ icons_position=“left“][vc_column_text css=““] \nSPYRES\nSince their official formation in April 2019\, Spyres have racked up over three million streams on Spotify alone\, with break-out singles Otherside\, Fake ID and I Don’t Care\, all receiving an incredible outpouring of radio support from the likes of BBC Radio 1’s Jack Saunders\, Radio X’s John Kennedy\, BBC Introducing Scotland’s Phoebe I-H and Vic Galloway. The reaction to the band has been mirrored in press with fevered endorsements from DORK\, Gigwise\, The Scottish Sun\, Daily Record\, Tenement TV and Distorted Sound at a glance. Making a name for themselves on stage\, Spyres supporting credentials include The Jesus And Mary Chain\, Nothing But Thieves\, The Snuts\, Soft Cult to name a few. In spite of the pandemic\, in \n2021 Spyres made serious ground in the live space in their own right. Their headline show at Glasgow’s King Tuts on the Summer Nights programme sold-out in less than 24 hours of the onsale date\, and months later\, the band sold-out London’s Old Blue Last\, Glasgow’s Stereo and Edinburgh’s Mash House. In addition to this\, Spyres made their debut at a number of major festivals; TRNSMT\, Neighborhood\, Live At Leeds\, including a headline slot on the This Feeling stage at Isle Of Wight Festival. \nIn 2022\, the band released their highly anticipated debut EP ‘Dear Diary’\, featuring the likes of Lost Without You & Test. Hitting the road for their first headline tour\, Spyres took over the UK for a week on their ‘Dear Diary Tour’ selling out shows in Dundee\, London and Leeds. Taking stage on the world renowned Barrowlands supporting local hero Declan Welsh & The Decadent West later on in the year\, Spyres showed that they’re ready to take on these types of venues. This showed as they rocked their own headliner at Glasgow’s St Luke’s. Since then\, Spyres have released a 5-track EP\, ‘Karaoke Sellouts’. Showing their range of talent through tracks like ‘Money’ & ‘Sleep Forever’. This set up Spyres nicely into 2024 where they supported NewDad just before heading over to the USA to play New Colossus Festival\, New York and SXSW\, Austin\, TX. \n  \nWILDIVE ist eine New Wave Band aus Köln\, die den glänzenden Indie-Sound der 80er düster interpretiert. Nach Touren mit Bands wie Theo Vandenhoff (CAN) und einem Showcase-Debut auf dem c/o pop Festival in Köln präsentiert die Band nun ihren ersten Longplayer: Mit Slumber taucht die Band ein in das Unterbewusste und Mystische – ein poetisch-treibendes Debüt\, das nicht nur in Europa wahrgenommen wurde: 2026 war WILDIVE auf einer ausgeweiteten Südostasien-Tour und ist die Neuentdeckung\, für alle\, die sich im Sound von Modern-Wave-Bands wie DIIV\, House of Harm und Hundredth zu Hause fühlen. \nSocials:\n\nInstagram: https://www.instagram.com/wildive.band/\nFacebook: https://www.facebook.com/wildive.band\nYouTube: https://www.youtube.com/@wildive\nWebsite: https://wildive.com/\nSpotify: https://open.spotify.com/intl-de/artist/0oOHDU2vAPVz2Y1CY5hO86?si=USMVaoyoSqiJ4Clvx4GXQQ\nBandcamp: https://wildive.bandcamp.com/music \n  \nMi.18.03.26 | Einlass 19 h | Beginn 20 h[/vc_column_text][vc_empty_space height=“2em“ alter_height=“none“ hide_on_desktop=““ hide_on_notebook=““ hide_on_tablet=““ hide_on_mobile=““][/vc_column_inner][vc_column_inner width=“1/3″ icons_position=“left“][vc_empty_space height=“2em“ alter_height=“none“ hide_on_desktop=““ hide_on_notebook=““ hide_on_tablet=““ hide_on_mobile=““][/vc_column_inner][vc_column_inner width=“1/3″ icons_position=“left“]\n			Vorverkauf16\,50 Euro (Preis inklusive Gebühren) \nAbendkasse 18 € Jetzt kaufen[/vc_column_inner][/vc_row_inner][vc_empty_space height=“2em“ alter_height=“none“ hide_on_desktop=““ hide_on_notebook=““ hide_on_tablet=““ hide_on_mobile=““][vc_row_inner][vc_column_inner width=“1/2″ icons_position=“left“][vc_column_text css=““][/vc_column_text][/vc_column_inner][vc_column_inner width=“1/2″ icons_position=“left“][/vc_column_inner][/vc_row_inner][/vc_column][/vc_row][vc_row][vc_column icons_position=“left“][vc_column_text]\n[/vc_column_text][/vc_column][/vc_row][vc_row][vc_column icons_position=“left“][vc_column_text]\n[/vc_column_text][/vc_column][/vc_row][vc_row full_width=“stretch_row“ hide_bg_image_on_tablet=““ hide_bg_image_on_mobile=““ shape_divider_top_front=““ shape_divider_bottom_front=““ row_delimiter=““ hide_on_desktop=““ hide_on_notebook=““ hide_on_tablet=““ hide_on_mobile=““ hide_on_frontpage=““][vc_column icons_position=“left“][vc_empty_space height=“0.5em“ alter_height=“none“ hide_on_desktop=““ hide_on_notebook=““ hide_on_tablet=““ hide_on_mobile=““][vc_column_text] \nGesponsert von:\n[/vc_column_text][/vc_column][/vc_row][vc_row full_width=“stretch_row“ hide_bg_image_on_tablet=““ hide_bg_image_on_mobile=““ row_delimiter=““ hide_on_desktop=““ hide_on_notebook=““ hide_on_tablet=““ hide_on_mobile=“1″ hide_on_frontpage=““][vc_column width=“1/2″ icons_position=“left“]			\n							\n			[vc_empty_space height=“1em“ alter_height=“none“ hide_on_desktop=““ hide_on_notebook=““ hide_on_tablet=““ hide_on_mobile=““][/vc_column][vc_column width=“1/2″ icons_position=“left“][/vc_column][/vc_row][vc_row full_width=“stretch_row“ hide_bg_image_on_tablet=““ hide_bg_image_on_mobile=““ row_delimiter=““ hide_on_desktop=“1″ hide_on_notebook=“1″ hide_on_tablet=“1″ hide_on_mobile=““ hide_on_frontpage=““][vc_column icons_position=“left“][vc_empty_space height=“1em“ alter_height=“none“ hide_on_desktop=““ hide_on_notebook=““ hide_on_tablet=““ hide_on_mobile=““][vc_single_image image=“3680″ img_size=“medium“ css=“.vc_custom_1705687468588{padding-top: 10px !important;padding-right: 10px !important;padding-bottom: 10px !important;padding-left: 10px !important;}“][vc_empty_space height=“1em“ alter_height=“none“ hide_on_desktop=““ hide_on_notebook=““ hide_on_tablet=““ hide_on_mobile=““][/vc_column][/vc_row]
URL:https://edp-koeln.de/event/spyres/
CATEGORIES:Konzert
ATTACH;FMTTYPE=image/jpeg:https://edp-koeln.de/wp-content/uploads/2026/01/spyres_hp.jpg
END:VEVENT
END:VCALENDAR