BEGIN:VCALENDAR
VERSION:2.0
PRODID:-//E.D.P. - ECPv6.15.20//NONSGML v1.0//EN
CALSCALE:GREGORIAN
METHOD:PUBLISH
X-WR-CALNAME:E.D.P.
X-ORIGINAL-URL:https://edp-koeln.de
X-WR-CALDESC:Veranstaltungen für E.D.P.
REFRESH-INTERVAL;VALUE=DURATION:PT1H
X-Robots-Tag:noindex
X-PUBLISHED-TTL:PT1H
BEGIN:VTIMEZONE
TZID:Europe/Berlin
BEGIN:DAYLIGHT
TZOFFSETFROM:+0100
TZOFFSETTO:+0200
TZNAME:CEST
DTSTART:20230326T010000
END:DAYLIGHT
BEGIN:STANDARD
TZOFFSETFROM:+0200
TZOFFSETTO:+0100
TZNAME:CET
DTSTART:20231029T010000
END:STANDARD
BEGIN:DAYLIGHT
TZOFFSETFROM:+0100
TZOFFSETTO:+0200
TZNAME:CEST
DTSTART:20240331T010000
END:DAYLIGHT
BEGIN:STANDARD
TZOFFSETFROM:+0200
TZOFFSETTO:+0100
TZNAME:CET
DTSTART:20241027T010000
END:STANDARD
BEGIN:DAYLIGHT
TZOFFSETFROM:+0100
TZOFFSETTO:+0200
TZNAME:CEST
DTSTART:20250330T010000
END:DAYLIGHT
BEGIN:STANDARD
TZOFFSETFROM:+0200
TZOFFSETTO:+0100
TZNAME:CET
DTSTART:20251026T010000
END:STANDARD
END:VTIMEZONE
BEGIN:VEVENT
DTSTART;TZID=Europe/Berlin:20240130T200000
DTEND;TZID=Europe/Berlin:20240130T220000
DTSTAMP:20260425T143128
CREATED:20231222T094450Z
LAST-MODIFIED:20231227T083702Z
UID:3744-1706644800-1706652000@edp-koeln.de
SUMMARY:III. Valentinssitzung
DESCRIPTION:[vc_row][vc_column icons_position=“left“][vc_row_inner][vc_column_inner width=“2/3″ icons_position=“left“][vc_column_text] \nIII. Valentinssitzung\nWas passiert\, wenn zwei Dürener Immis\, eine Weltenbummlerin und ein Ehrenfelder Küken dieselbe Stammkneipe haben? Genau! Eine Sitzung. Im Lockdown geboren\, als Online-Sitzung laufen gelernt\, findet die Valentinssitzung nun zum 2ten Mal live und in Farbe und zum Anfassen im Pitter statt\, Prädikat „Von Freunden für Freunde“. Der Elferrat poliert schon die Narrenkappen – die karnevalistischen Gehirnzellen gehen auf Sendung. \nWenn Du Bock auf eine freundliche Dosis Quatsch hast – komm‘ vorbei: et jitt\nLive-Musik\, Gardetanz\, Neues aus der Bütt\, wat zo jewinne un un un – un – last but not least viel Hätz und Kölsch vum Fass. Ahsu! Eintritt für ne jode Zweck! \nBis dohin\, et Vünkchen\, Fräulein Holle\, Beppermint Patty un et Süperfeld \nDi. 30.01.24 | Einlass 19 h | Beginn 20 h[/vc_column_text][vc_empty_space height=“1em“ alter_height=“none“ hide_on_desktop=““ hide_on_notebook=““ hide_on_tablet=““ hide_on_mobile=““][vc_single_image image=“3747″ img_size=“large“][/vc_column_inner][vc_column_inner width=“1/3″ icons_position=“left“][vc_empty_space height=“2em“ alter_height=“none“ hide_on_desktop=““ hide_on_notebook=““ hide_on_tablet=““ hide_on_mobile=““][/vc_column_inner][vc_column_inner width=“1/3″ icons_position=“left“]\n			Vorverkauf16\,50 Euro Preis inklusive Gebühren \n(Abendkasse 15 Euro) Jetzt kaufen[/vc_column_inner][/vc_row_inner][vc_empty_space height=“2em“ alter_height=“none“ hide_on_desktop=““ hide_on_notebook=““ hide_on_tablet=““ hide_on_mobile=““][/vc_column][/vc_row][vc_row][vc_column icons_position=“left“][vc_column_text]\n[/vc_column_text][/vc_column][/vc_row][vc_row full_width=“stretch_row“ hide_bg_image_on_tablet=““ hide_bg_image_on_mobile=““ shape_divider_top_front=““ shape_divider_bottom_front=““ row_delimiter=““ hide_on_desktop=““ hide_on_notebook=““ hide_on_tablet=““ hide_on_mobile=““ hide_on_frontpage=““][vc_column icons_position=“left“][vc_empty_space height=“0.5em“ alter_height=“none“ hide_on_desktop=““ hide_on_notebook=““ hide_on_tablet=““ hide_on_mobile=““][vc_column_text] \nGesponsert von:\n[/vc_column_text][/vc_column][/vc_row][vc_row full_width=“stretch_row“ hide_bg_image_on_tablet=““ hide_bg_image_on_mobile=““ row_delimiter=““ hide_on_desktop=““ hide_on_notebook=““ hide_on_tablet=““ hide_on_mobile=“1″ hide_on_frontpage=““][vc_column width=“1/2″ icons_position=“left“]			\n							\n			[vc_empty_space height=“1em“ alter_height=“none“ hide_on_desktop=““ hide_on_notebook=““ hide_on_tablet=““ hide_on_mobile=““][/vc_column][vc_column width=“1/2″ icons_position=“left“][/vc_column][/vc_row][vc_row full_width=“stretch_row“ hide_bg_image_on_tablet=““ hide_bg_image_on_mobile=““ row_delimiter=““ hide_on_desktop=“1″ hide_on_notebook=“1″ hide_on_tablet=“1″ hide_on_mobile=““ hide_on_frontpage=““][vc_column icons_position=“left“][vc_empty_space height=“1em“ alter_height=“none“ hide_on_desktop=““ hide_on_notebook=““ hide_on_tablet=““ hide_on_mobile=““][vc_single_image image=“3680″ img_size=“medium“][vc_single_image image=“1797″ img_size=“medium“][vc_empty_space height=“3em“ alter_height=“none“ hide_on_desktop=““ hide_on_notebook=““ hide_on_tablet=““ hide_on_mobile=““][/vc_column][/vc_row]
URL:https://edp-koeln.de/event/ii-valentinssitzung-2024/
CATEGORIES:Konzert,Party
ATTACH;FMTTYPE=image/jpeg:https://edp-koeln.de/wp-content/uploads/2023/12/Valentinssitzung_2024.jpg
END:VEVENT
END:VCALENDAR