BEGIN:VCALENDAR
VERSION:2.0
PRODID:-//E.D.P. - ECPv6.15.20//NONSGML v1.0//EN
CALSCALE:GREGORIAN
METHOD:PUBLISH
X-WR-CALNAME:E.D.P.
X-ORIGINAL-URL:https://edp-koeln.de
X-WR-CALDESC:Veranstaltungen für E.D.P.
REFRESH-INTERVAL;VALUE=DURATION:PT1H
X-Robots-Tag:noindex
X-PUBLISHED-TTL:PT1H
BEGIN:VTIMEZONE
TZID:Europe/Berlin
BEGIN:DAYLIGHT
TZOFFSETFROM:+0100
TZOFFSETTO:+0200
TZNAME:CEST
DTSTART:20220327T010000
END:DAYLIGHT
BEGIN:STANDARD
TZOFFSETFROM:+0200
TZOFFSETTO:+0100
TZNAME:CET
DTSTART:20221030T010000
END:STANDARD
BEGIN:DAYLIGHT
TZOFFSETFROM:+0100
TZOFFSETTO:+0200
TZNAME:CEST
DTSTART:20230326T010000
END:DAYLIGHT
BEGIN:STANDARD
TZOFFSETFROM:+0200
TZOFFSETTO:+0100
TZNAME:CET
DTSTART:20231029T010000
END:STANDARD
BEGIN:DAYLIGHT
TZOFFSETFROM:+0100
TZOFFSETTO:+0200
TZNAME:CEST
DTSTART:20240331T010000
END:DAYLIGHT
BEGIN:STANDARD
TZOFFSETFROM:+0200
TZOFFSETTO:+0100
TZNAME:CET
DTSTART:20241027T010000
END:STANDARD
END:VTIMEZONE
BEGIN:VEVENT
DTSTART;TZID=Europe/Berlin:20230420T200000
DTEND;TZID=Europe/Berlin:20230420T220000
DTSTAMP:20260426T034333
CREATED:20230125T185227Z
LAST-MODIFIED:20230125T185227Z
UID:3337-1682020800-1682028000@edp-koeln.de
SUMMARY:Tobey Trueblood
DESCRIPTION:[vc_row][vc_column icons_position=“left“][vc_row_inner][vc_column_inner width=“2/3″ icons_position=“left“][vc_column_text] \nTobey Trueblood\nTobey Trueblood\, das ist Songschreiber Tobias Körner aus Köln. Seit 2011 fängt er mit seinen Liedern den Zeitgeist ein\, bittersüße Melodien und eine Prise Punk sind die Zutaten. Seit seinem dritten Album (2019) ‚Egal Wohin‘ textet Tobey auf deutsch. \nÜber die Jahre wurde er von verschiedenen Musikern begleitet. Die aktuelle Besetzung in der Full-Band Version besteht aus Ingo Konrath am Bass und Andreas Wels an den Drums. \nUnzählige Gigs im Raum Köln wurden über die letzten Jahre gespielt. Höhepunkte waren sicher die Auftritte mit Jupiter Jones in der LMH sowie all die Auftritte mit Tim Vantol (Dortmund\, Köln\, Bonn\, Münster). \nDas vierte Album ‚Gedeih & Verderb` erblickt die Welt im Herbst 2022. \nDo. 20.04.23 | Einlass 19 h | Beginn 20 h[/vc_column_text][/vc_column_inner][vc_column_inner width=“1/3″ icons_position=“left“][vc_empty_space height=“2em“ alter_height=“none“ hide_on_desktop=““ hide_on_notebook=““ hide_on_tablet=““ hide_on_mobile=““][/vc_column_inner][vc_column_inner width=“1/3″ icons_position=“left“]\n			Vorverkauf11 Euro Preis inklusive Gebühren \n(Abendkasse 12 Euro) Jetzt kaufen[/vc_column_inner][/vc_row_inner][vc_empty_space height=“2em“ alter_height=“none“ hide_on_desktop=““ hide_on_notebook=““ hide_on_tablet=““ hide_on_mobile=““][vc_row_inner][vc_column_inner width=“1/2″ icons_position=“left“][vc_column_text][/vc_column_text][/vc_column_inner][vc_column_inner width=“1/2″ icons_position=“left“][vc_column_text][/vc_column_text][/vc_column_inner][/vc_row_inner][/vc_column][/vc_row][vc_row full_width=“stretch_row“ hide_bg_image_on_tablet=““ hide_bg_image_on_mobile=““ row_delimiter=““ hide_on_desktop=““ hide_on_notebook=““ hide_on_tablet=““ hide_on_mobile=““ hide_on_frontpage=““][vc_column icons_position=“left“][vc_column_text] \nGesponsert von:\n[/vc_column_text][/vc_column][/vc_row][vc_row full_width=“stretch_row“ hide_bg_image_on_tablet=““ hide_bg_image_on_mobile=““ row_delimiter=““ hide_on_desktop=““ hide_on_notebook=““ hide_on_tablet=““ hide_on_mobile=“1″ hide_on_frontpage=““][vc_column icons_position=“left“]			\n							\n			[vc_empty_space height=“1em“ alter_height=“none“ hide_on_desktop=““ hide_on_notebook=““ hide_on_tablet=““ hide_on_mobile=““][/vc_column][/vc_row][vc_row full_width=“stretch_row“ hide_bg_image_on_tablet=““ hide_bg_image_on_mobile=““ row_delimiter=““ hide_on_desktop=“1″ hide_on_notebook=“1″ hide_on_tablet=“1″ hide_on_mobile=““ hide_on_frontpage=““][vc_column icons_position=“left“][vc_empty_space height=“1em“ alter_height=“none“ hide_on_desktop=““ hide_on_notebook=““ hide_on_tablet=““ hide_on_mobile=““][vc_single_image image=“1796″ img_size=“medium“][vc_single_image image=“1797″ img_size=“medium“][vc_single_image image=“2899″ img_size=“medium“][vc_empty_space height=“3em“ alter_height=“none“ hide_on_desktop=““ hide_on_notebook=““ hide_on_tablet=““ hide_on_mobile=““][/vc_column][/vc_row]
URL:https://edp-koeln.de/event/tobey-trueblood/
CATEGORIES:Konzert
ATTACH;FMTTYPE=image/jpeg:https://edp-koeln.de/wp-content/uploads/2023/01/tobey-trueblood.jpg
END:VEVENT
END:VCALENDAR