BEGIN:VCALENDAR
VERSION:2.0
PRODID:-//E.D.P. - ECPv6.15.20//NONSGML v1.0//EN
CALSCALE:GREGORIAN
METHOD:PUBLISH
X-ORIGINAL-URL:https://edp-koeln.de
X-WR-CALDESC:Veranstaltungen für E.D.P.
REFRESH-INTERVAL;VALUE=DURATION:PT1H
X-Robots-Tag:noindex
X-PUBLISHED-TTL:PT1H
BEGIN:VTIMEZONE
TZID:Europe/Berlin
BEGIN:DAYLIGHT
TZOFFSETFROM:+0100
TZOFFSETTO:+0200
TZNAME:CEST
DTSTART:20250330T010000
END:DAYLIGHT
BEGIN:STANDARD
TZOFFSETFROM:+0200
TZOFFSETTO:+0100
TZNAME:CET
DTSTART:20251026T010000
END:STANDARD
BEGIN:DAYLIGHT
TZOFFSETFROM:+0100
TZOFFSETTO:+0200
TZNAME:CEST
DTSTART:20260329T010000
END:DAYLIGHT
BEGIN:STANDARD
TZOFFSETFROM:+0200
TZOFFSETTO:+0100
TZNAME:CET
DTSTART:20261025T010000
END:STANDARD
BEGIN:DAYLIGHT
TZOFFSETFROM:+0100
TZOFFSETTO:+0200
TZNAME:CEST
DTSTART:20270328T010000
END:DAYLIGHT
BEGIN:STANDARD
TZOFFSETFROM:+0200
TZOFFSETTO:+0100
TZNAME:CET
DTSTART:20271031T010000
END:STANDARD
END:VTIMEZONE
BEGIN:VEVENT
DTSTART;VALUE=DATE:20260212
DTEND;VALUE=DATE:20260214
DTSTAMP:20260423T152240
CREATED:20250116T174312Z
LAST-MODIFIED:20260106T114836Z
UID:4371-1770883200-1770969599@edp-koeln.de
SUMMARY:Fastelovend mit DJ Wulf
DESCRIPTION:[vc_row][vc_column icons_position=“left“][vc_row_inner][vc_column_inner width=“2/3″ icons_position=“left“][vc_column_text css=““] \nOldschool Fastelovend und Smash Hits mit DJ Wulf\nDo. 12.02.26 | Einlass 15 h  \nACHTUNG: Garantierter\, sofortiger Einlass mit Ticket nur bis 16:00 Uhr. \nDanach ist ggf. mit längerer Wartezeit zu rechnen. \nEs wird ebenfalls eine Abendkasse geben. Auch hier ist ggf.\nmit Wartezeiten zu rechnen. \nAlaaf![/vc_column_text][/vc_column_inner][vc_column_inner width=“1/3″ icons_position=“left“][vc_empty_space height=“2em“ alter_height=“none“ hide_on_desktop=““ hide_on_notebook=““ hide_on_tablet=““ hide_on_mobile=““][/vc_column_inner][vc_column_inner width=“1/3″ icons_position=“left“]\n			Vorverkauf11 Euro Preis inklusive Gebühren \nJetzt kaufen[/vc_column_inner][/vc_row_inner][vc_empty_space height=“2em“ alter_height=“none“ hide_on_desktop=““ hide_on_notebook=““ hide_on_tablet=““ hide_on_mobile=““][/vc_column][/vc_row]
URL:https://edp-koeln.de/event/oldschool-fastelovend-donnerstag/
CATEGORIES:Party
ATTACH;FMTTYPE=image/jpeg:https://edp-koeln.de/wp-content/uploads/2025/01/fastelovend_lya-1.jpg
END:VEVENT
BEGIN:VEVENT
DTSTART;VALUE=DATE:20260213
DTEND;VALUE=DATE:20260215
DTSTAMP:20260423T152240
CREATED:20250116T175350Z
LAST-MODIFIED:20260106T114812Z
UID:4377-1770969600-1771055999@edp-koeln.de
SUMMARY:Fastelovend mit DJ Wulf
DESCRIPTION:[vc_row][vc_column icons_position=“left“][vc_row_inner][vc_column_inner width=“2/3″ icons_position=“left“][vc_column_text css=““] \nOldschool Fastelovend und Smash Hits mit DJ Wulf\nFr. 13.02.26 | Einlass 18 h  \nACHTUNG: Garantierter\, sofortiger Einlass mit Ticket nur bis 19:00 Uhr. \nDanach ist ggf. mit längerer Wartezeit zu rechnen. \nEs wird ebenfalls eine Abendkasse geben. Auch hier ist ggf.\nmit Wartezeiten zu rechnen. \nAlaaf![/vc_column_text][/vc_column_inner][vc_column_inner width=“1/3″ icons_position=“left“][vc_empty_space height=“2em“ alter_height=“none“ hide_on_desktop=““ hide_on_notebook=““ hide_on_tablet=““ hide_on_mobile=““][/vc_column_inner][vc_column_inner width=“1/3″ icons_position=“left“]\n			Vorverkauf11 Euro Preis inklusive Gebühren \nJetzt kaufen[/vc_column_inner][/vc_row_inner][vc_empty_space height=“2em“ alter_height=“none“ hide_on_desktop=““ hide_on_notebook=““ hide_on_tablet=““ hide_on_mobile=““][/vc_column][/vc_row]
URL:https://edp-koeln.de/event/oldschool-fastelovend-freitag-2025/
CATEGORIES:Party
ATTACH;FMTTYPE=image/jpeg:https://edp-koeln.de/wp-content/uploads/2025/01/fastelovend_lya-1.jpg
END:VEVENT
BEGIN:VEVENT
DTSTART;VALUE=DATE:20260214
DTEND;VALUE=DATE:20260216
DTSTAMP:20260423T152240
CREATED:20250116T180642Z
LAST-MODIFIED:20260106T114659Z
UID:4390-1771056000-1771142399@edp-koeln.de
SUMMARY:Fastelovend mit DJ Prinz Saender de Eetzte
DESCRIPTION:[vc_row][vc_column icons_position=“left“][vc_row_inner][vc_column_inner width=“2/3″ icons_position=“left“][vc_column_text css=““] \nOldschool Fastelovend und Smash Hits im EDP mit DJ Prinz Saender de Eetzte\nSa. 14.02.26 | Einlass 18 h  \nACHTUNG: Garantierter\, sofortiger Einlass mit Ticket nur bis 19:00 Uhr. \nDanach ist ggf. mit längerer Wartezeit zu rechnen. \nEs wird ebenfalls eine Abendkasse geben. Auch hier ist ggf.\nmit Wartezeiten zu rechnen. \nAlaaf![/vc_column_text][/vc_column_inner][vc_column_inner width=“1/3″ icons_position=“left“][vc_empty_space height=“2em“ alter_height=“none“ hide_on_desktop=““ hide_on_notebook=““ hide_on_tablet=““ hide_on_mobile=““][/vc_column_inner][vc_column_inner width=“1/3″ icons_position=“left“]\n			Vorverkauf11 Euro Preis inklusive Gebühren Jetzt kaufen[/vc_column_inner][/vc_row_inner][vc_empty_space height=“2em“ alter_height=“none“ hide_on_desktop=““ hide_on_notebook=““ hide_on_tablet=““ hide_on_mobile=““][/vc_column][/vc_row]
URL:https://edp-koeln.de/event/samstag-fastelovend-mit-dj-prinz-saender-de-eetzte-mesut-roesel/
CATEGORIES:Party
ATTACH;FMTTYPE=image/jpeg:https://edp-koeln.de/wp-content/uploads/2025/01/fastelovend_lya-1.jpg
END:VEVENT
END:VCALENDAR