BEGIN:VCALENDAR
VERSION:2.0
PRODID:-//E.D.P. - ECPv6.15.20//NONSGML v1.0//EN
CALSCALE:GREGORIAN
METHOD:PUBLISH
X-WR-CALNAME:E.D.P.
X-ORIGINAL-URL:https://edp-koeln.de
X-WR-CALDESC:Veranstaltungen für E.D.P.
REFRESH-INTERVAL;VALUE=DURATION:PT1H
X-Robots-Tag:noindex
X-PUBLISHED-TTL:PT1H
BEGIN:VTIMEZONE
TZID:Europe/Berlin
BEGIN:DAYLIGHT
TZOFFSETFROM:+0100
TZOFFSETTO:+0200
TZNAME:CEST
DTSTART:20220327T010000
END:DAYLIGHT
BEGIN:STANDARD
TZOFFSETFROM:+0200
TZOFFSETTO:+0100
TZNAME:CET
DTSTART:20221030T010000
END:STANDARD
BEGIN:DAYLIGHT
TZOFFSETFROM:+0100
TZOFFSETTO:+0200
TZNAME:CEST
DTSTART:20230326T010000
END:DAYLIGHT
BEGIN:STANDARD
TZOFFSETFROM:+0200
TZOFFSETTO:+0100
TZNAME:CET
DTSTART:20231029T010000
END:STANDARD
BEGIN:DAYLIGHT
TZOFFSETFROM:+0100
TZOFFSETTO:+0200
TZNAME:CEST
DTSTART:20240331T010000
END:DAYLIGHT
BEGIN:STANDARD
TZOFFSETFROM:+0200
TZOFFSETTO:+0100
TZNAME:CET
DTSTART:20241027T010000
END:STANDARD
END:VTIMEZONE
BEGIN:VEVENT
DTSTART;TZID=Europe/Berlin:20231208T200000
DTEND;TZID=Europe/Berlin:20231208T220000
DTSTAMP:20260425T155839
CREATED:20230814T183440Z
LAST-MODIFIED:20231013T151444Z
UID:3626-1702065600-1702072800@edp-koeln.de
SUMMARY:Jenny Thiele Solo - Ausverkauft!
DESCRIPTION:[vc_row][vc_column icons_position=“left“][vc_row_inner][vc_column_inner width=“2/3″ icons_position=“left“][vc_column_text] \nJenny Thiele – Solo\nAusverkauft! \nThiele singt\, erzählt\, fliegt – fliegt mit ihrer Stimme\, Musik und Texten durch die Köpfe und lebenserhaltenden Organe der Zuhörer*innen. Bringt mit schallendem Lachen die Wände zum Wackeln. Ihr Auftreten ist pur\, direkt und eigensinnig. \nAuf ihrem aktuellen Solo-Album Killing time (2022\, Hey!blau Records) gibt sich die Musikerin ganz dem Singer-Songwriting im Stil von Joni Mitchell oder Feist hin. Die in Eigenregie aufgenommenen Songs suchen nach ungewöhnlichen Bildern für universelle Geschichten\, wenn das Herz als juicy beating muscle im Wasser\nertrinkt und die letzte Affäre als trip to Proxima B besungen wird. \nMit reduzierter Instrumentierung richtet Jenny Thiele den musikalischen Blick nach innen und spielt mit dem Multi-Instrumentalisten Philipp Ullrich “eine Rebellion der leisen Töne. Hier ist kein Ton zu viel und jede Nuance gewichtig. Große\, facettenreiche Popkönnerschaft zum Repeat-Hören.” Ole Löding\, Musikjournalist WDR. \nBis in die ausverkaufte Kölner Philharmonie war sie zuletzt fünf Jahre lang als Sängerin und Keyboarderin mit dem Indie-Trio Fortuna Ehrenfeld unterwegs und tourte unermüdlich durch die Clublandschaften. Jetzt gilt die Künstlerin solo als Geheimtipp der Kölner Musikszene. \nSupport: VOLKER \nVolker macht einfache Popmusik in einer schwierigen Welt. Die Texte sind die selbstironische Großstadt Poesie eines Millennials\, der nicht so richtig weiß wohin mit sich. Die Beats sind das Resultat seiner Liebe zu Disco Funk und frühkindlicher Dauerbeschallung mit den Powerballaden der 80er Jahre. \nFr. 08.12.23 | Einlass 19 h | Beginn 20 h[/vc_column_text][vc_empty_space height=“1em“ alter_height=“none“ hide_on_desktop=““ hide_on_notebook=““ hide_on_tablet=““ hide_on_mobile=““][/vc_column_inner][vc_column_inner width=“1/3″ icons_position=“left“][vc_empty_space height=“2em“ alter_height=“none“ hide_on_desktop=““ hide_on_notebook=““ hide_on_tablet=““ hide_on_mobile=““][/vc_column_inner][vc_column_inner width=“1/3″ icons_position=“left“]\n			Vorverkauf19\,80 Euro Preis inklusive Gebühren \n(Abendkasse 22 Euro) Ausverkauft![/vc_column_inner][/vc_row_inner][vc_empty_space height=“2em“ alter_height=“none“ hide_on_desktop=““ hide_on_notebook=““ hide_on_tablet=““ hide_on_mobile=““][vc_row_inner][vc_column_inner width=“1/2″ icons_position=“left“][vc_column_text][/vc_column_text][/vc_column_inner][vc_column_inner width=“1/2″ icons_position=“left“][/vc_column_inner][/vc_row_inner][/vc_column][/vc_row]
URL:https://edp-koeln.de/event/jenny-thiele-solo-2023/
CATEGORIES:Konzert
ATTACH;FMTTYPE=image/jpeg:https://edp-koeln.de/wp-content/uploads/2022/07/JennyThiele_Portait_Querformat_c-Anna-Schwartz.jpg
END:VEVENT
END:VCALENDAR