BEGIN:VCALENDAR
VERSION:2.0
PRODID:-//E.D.P. - ECPv6.15.20//NONSGML v1.0//EN
CALSCALE:GREGORIAN
METHOD:PUBLISH
X-WR-CALNAME:E.D.P.
X-ORIGINAL-URL:https://edp-koeln.de
X-WR-CALDESC:Veranstaltungen für E.D.P.
REFRESH-INTERVAL;VALUE=DURATION:PT1H
X-Robots-Tag:noindex
X-PUBLISHED-TTL:PT1H
BEGIN:VTIMEZONE
TZID:Europe/Berlin
BEGIN:DAYLIGHT
TZOFFSETFROM:+0100
TZOFFSETTO:+0200
TZNAME:CEST
DTSTART:20240331T010000
END:DAYLIGHT
BEGIN:STANDARD
TZOFFSETFROM:+0200
TZOFFSETTO:+0100
TZNAME:CET
DTSTART:20241027T010000
END:STANDARD
BEGIN:DAYLIGHT
TZOFFSETFROM:+0100
TZOFFSETTO:+0200
TZNAME:CEST
DTSTART:20250330T010000
END:DAYLIGHT
BEGIN:STANDARD
TZOFFSETFROM:+0200
TZOFFSETTO:+0100
TZNAME:CET
DTSTART:20251026T010000
END:STANDARD
BEGIN:DAYLIGHT
TZOFFSETFROM:+0100
TZOFFSETTO:+0200
TZNAME:CEST
DTSTART:20260329T010000
END:DAYLIGHT
BEGIN:STANDARD
TZOFFSETFROM:+0200
TZOFFSETTO:+0100
TZNAME:CET
DTSTART:20261025T010000
END:STANDARD
END:VTIMEZONE
BEGIN:VEVENT
DTSTART;TZID=Europe/Berlin:20250923T200000
DTEND;TZID=Europe/Berlin:20250923T220000
DTSTAMP:20260424T061716
CREATED:20250708T114929Z
LAST-MODIFIED:20250708T114929Z
UID:4595-1758657600-1758664800@edp-koeln.de
SUMMARY:Bernadette La Hengst
DESCRIPTION:[vc_row][vc_column icons_position=“left“][vc_row_inner][vc_column_inner width=“2/3″ icons_position=“left“][vc_column_text css=““] \nBernadette La Hengst – Warum ich so laut singen kann\nBernadette La Hengst ist die facettenreichste Protagonistin jener Szene welche jüngst wieder ins Bewusstsein einer breiteren Öffentlichkeit kam\, der so genannten Hamburger Schüle. Sie ist „die einzige deutsche Soulsängerin“ (R. Jellen/Junge Welt)\, „Rebellische Lebenskünstlerin“ (Der Freitag) und „Agitations-Chanteuse“ (ihr Label Trikont). Sie veröffentlichte solo\, mit ihrer Band die Braut haut ins Auge und mit Projekten wie Die Zukunft oder dem Schwabinggrad Ballett seit 1988 knapp 20 Alben. Sie ist nicht nur eine großartige Songschreiberin und Musikerin sondern auch Regisseurin\, Chorleiterin\, Radiomoderatorin und Femme de Lettres. \nIhre Band Die Braut haut ins Auge war in den 1990ern „weder Diskurs-Pop\, noch Riot-Girrls oder Pop-Mainstream“ (B.La Hengst) und damit zu unique für den großen Markt. Bernadette La Hengst ist stets zu Pop\, zu Frau und zu eigen. Genau deshalb ist sie eine der interessantesten und wortgewaltigsten deutschen Texter*innen. Wer sonst kann so geschickt politische Diskurse als Liebeslieder tarnen\, wie Bernadette es im Song „Dilemma“ schafft. Einfach mal „Das Private ist politisch“ umdrehen\, dann geht das wunderbar. Oder eventuell autobiografische Themen in einen so tollen Text wie dem titelgebenden „Warum ich so laut singen kann“ umzusetzen? Mit „Warum ich so laut singen kann“ liegt nun erstmals eine umfangreiche Sammlung ihrer Songtexte vor. Der Band enthält 110 Songtexte sowie zahlreiche Erläuterungen zu eben jenen. \nBei ihrer Musikalischen Lesetour wird Bernadette La Hengst Songtexte aus dem Buch lesen\, Geschichten aus ihrem reichhaltigen Leben als Musikerin erzählen und viele Songs live spielen. Ein unterhaltsamer Abend durch die 38 Jahre ihres Schaffens. \nDi.23.09.25 | Einlass 19 h | Beginn 20 h[/vc_column_text][vc_empty_space height=“2em“ alter_height=“none“ hide_on_desktop=““ hide_on_notebook=““ hide_on_tablet=““ hide_on_mobile=““][/vc_column_inner][vc_column_inner width=“1/3″ icons_position=“left“][vc_empty_space height=“2em“ alter_height=“none“ hide_on_desktop=““ hide_on_notebook=““ hide_on_tablet=““ hide_on_mobile=““][/vc_column_inner][vc_column_inner width=“1/3″ icons_position=“left“]\n			Vorverkauf19\,80 Euro (Preis inklusive Gebühren) \nAbendkasse 22 € Jetzt kaufen[/vc_column_inner][/vc_row_inner][vc_empty_space height=“2em“ alter_height=“none“ hide_on_desktop=““ hide_on_notebook=““ hide_on_tablet=““ hide_on_mobile=““][vc_row_inner][vc_column_inner width=“1/2″ icons_position=“left“][vc_column_text css=““][/vc_column_text][/vc_column_inner][vc_column_inner width=“1/2″ icons_position=“left“][/vc_column_inner][/vc_row_inner][/vc_column][/vc_row][vc_row][vc_column icons_position=“left“][vc_column_text]\n[/vc_column_text][/vc_column][/vc_row][vc_row][vc_column icons_position=“left“][vc_column_text]\n[/vc_column_text][/vc_column][/vc_row][vc_row full_width=“stretch_row“ hide_bg_image_on_tablet=““ hide_bg_image_on_mobile=““ shape_divider_top_front=““ shape_divider_bottom_front=““ row_delimiter=““ hide_on_desktop=““ hide_on_notebook=““ hide_on_tablet=““ hide_on_mobile=““ hide_on_frontpage=““][vc_column icons_position=“left“][vc_empty_space height=“0.5em“ alter_height=“none“ hide_on_desktop=““ hide_on_notebook=““ hide_on_tablet=““ hide_on_mobile=““][vc_column_text] \nGesponsert von:\n[/vc_column_text][/vc_column][/vc_row][vc_row full_width=“stretch_row“ hide_bg_image_on_tablet=““ hide_bg_image_on_mobile=““ row_delimiter=““ hide_on_desktop=““ hide_on_notebook=““ hide_on_tablet=““ hide_on_mobile=“1″ hide_on_frontpage=““][vc_column width=“1/2″ icons_position=“left“]			\n							\n			[vc_empty_space height=“1em“ alter_height=“none“ hide_on_desktop=““ hide_on_notebook=““ hide_on_tablet=““ hide_on_mobile=““][/vc_column][vc_column width=“1/2″ icons_position=“left“][/vc_column][/vc_row][vc_row full_width=“stretch_row“ hide_bg_image_on_tablet=““ hide_bg_image_on_mobile=““ row_delimiter=““ hide_on_desktop=“1″ hide_on_notebook=“1″ hide_on_tablet=“1″ hide_on_mobile=““ hide_on_frontpage=““][vc_column icons_position=“left“][vc_empty_space height=“1em“ alter_height=“none“ hide_on_desktop=““ hide_on_notebook=““ hide_on_tablet=““ hide_on_mobile=““][vc_single_image image=“3680″ img_size=“medium“ css=“.vc_custom_1705687468588{padding-top: 10px !important;padding-right: 10px !important;padding-bottom: 10px !important;padding-left: 10px !important;}“][vc_single_image image=“1797″ img_size=“medium“ css=“.vc_custom_1705687580206{padding-top: 10px !important;padding-right: 10px !important;}“][vc_empty_space height=“1em“ alter_height=“none“ hide_on_desktop=““ hide_on_notebook=““ hide_on_tablet=““ hide_on_mobile=““][/vc_column][/vc_row]
URL:https://edp-koeln.de/event/bernadette-la-hengst/
CATEGORIES:Konzert,Lesung
ATTACH;FMTTYPE=image/jpeg:https://edp-koeln.de/wp-content/uploads/2025/07/Bernadette-La-Hengst_84_Photo-by_Christiane-Stephan.jpg
END:VEVENT
BEGIN:VEVENT
DTSTART;TZID=Europe/Berlin:20250925T200000
DTEND;TZID=Europe/Berlin:20250925T220000
DTSTAMP:20260424T061716
CREATED:20250708T131334Z
LAST-MODIFIED:20250708T132827Z
UID:4602-1758830400-1758837600@edp-koeln.de
SUMMARY:NEVIS + GUTE KATZE BÖSE KATZE
DESCRIPTION:[vc_row][vc_column icons_position=“left“][vc_row_inner][vc_column_inner width=“2/3″ icons_position=“left“][vc_column_text css=““] \nNevis\nSeit ihrem Debüt „Morgens“ hat sich mit Verena Deege und Moritz\nAndrejewski nicht nur eine feste Bandbesetzung um Sänger und\nSongwriter Lennie Gottberg gefunden – auch Sound und Texte sprechen\nauf ihrem\, im Dezember erscheinenden ersten Album „Keine Sorge“ eine\nneue\, schnörkellose Sprache.\nOhne den rauen Gitarren-Sound zu verraten\, pendeln Nevis zwischen\nIndie\, Pop\, Punk und Singer-Songwriter\, steuern mal melancholisch\, mal\ntreibend\, dann wieder verliebt oder wütend durch ihre dreizehn neuen\nSongs – und schmettern einem dabei eine unausweichliche\nLebensfreude entgegen\nWas ihr Live-Publikum schon lange an Nevis schätzt\, ist nun endlich\nauch auf Platte zu hören:\nkeine glattpolierte Studioproduktion\, sondern ehrlicher Band-Sound\, der\nbeweist\, dass verletzliche deutschsprachige Indie-Musik nicht in\ntraurigem Tiefgang versinken muss\, sondern Selbstironie\, Euphorie und\nein paar alberne Dancemoves verdient hat. \nsupport: Gute Katze böse Katze\nKuschelpunk aus Hamburg: feministisch\, politisch\, freundlich! Das Trio GUTE\nKATZE BÖSE KATZE kennt nur Superlative: Hamburgs heißeste Drag-Gitarristin\nCampina de la Fuente spielt atemberaubende Gitarren-Soli und gibt der Band\neinen frivolen Hauch! Axel Hollywood trägt die engsten Hosen Hamburgs und\nspielt fulminant Schlagzeug. Die Frontfrau Rosa Licht ist wohl die\nstimmgewaltigste und liebenswürdigste Sängerin seit Nina Hagen.\nEin „Queer-Feminist-Punk-Indie-Spektakel“ mit Gitarre\, Schlagzeug\, Synthesizer\nund Schnurrhaar – nur für dich! \nDo. 25.09.25 | Einlass 19:00 h | Beginn 20 h[/vc_column_text][vc_empty_space height=“2em“ alter_height=“none“ hide_on_desktop=““ hide_on_notebook=““ hide_on_tablet=““ hide_on_mobile=““][/vc_column_inner][vc_column_inner width=“1/3″ icons_position=“left“][vc_empty_space height=“2em“ alter_height=“none“ hide_on_desktop=““ hide_on_notebook=““ hide_on_tablet=““ hide_on_mobile=““][/vc_column_inner][vc_column_inner width=“1/3″ icons_position=“left“]\n			Vorverkauf16\,50 Euro Preis inklusive Gebühren \nAbendkasse: 18 Jetzt kaufen[vc_empty_space height=“2em“ alter_height=“none“ hide_on_desktop=““ hide_on_notebook=““ hide_on_tablet=““ hide_on_mobile=““][/vc_column_inner][/vc_row_inner][/vc_column][/vc_row][vc_row][vc_column width=“1/2″ icons_position=“left“][vc_column_text css=““][/vc_column_text][/vc_column][vc_column width=“1/2″ icons_position=“left“][vc_column_text css=““][/vc_column_text][/vc_column][/vc_row][vc_row][vc_column icons_position=“left“][vc_column_text] \nGesponsert von:\n[/vc_column_text][vc_empty_space height=“1em“ alter_height=“none“ hide_on_desktop=““ hide_on_notebook=““ hide_on_tablet=““ hide_on_mobile=““][/vc_column][/vc_row][vc_row full_width=“stretch_row“ hide_bg_image_on_tablet=““ hide_bg_image_on_mobile=““ row_delimiter=““ hide_on_desktop=““ hide_on_notebook=““ hide_on_tablet=““ hide_on_mobile=“1″ hide_on_frontpage=““][vc_column width=“1/3″ icons_position=“left“][vc_single_image image=“3680″ img_size=“medium“ css=“.vc_custom_1705687468588{padding-top: 10px !important;padding-right: 10px !important;padding-bottom: 10px !important;padding-left: 10px !important;}“][/vc_column][vc_column width=“1/3″ icons_position=“left“][vc_single_image image=“1797″ img_size=“medium“ css=“.vc_custom_1729101604495{padding-top: 10px !important;padding-right: 10px !important;padding-bottom: 10px !important;padding-left: 10px !important;}“][/vc_column][vc_column width=“1/3″ icons_position=“left“][vc_single_image image=“2899″ img_size=“medium“ css=“.vc_custom_1729101636529{padding-top: 10px !important;padding-right: 10px !important;padding-bottom: 10px !important;padding-left: 10px !important;}“][/vc_column][/vc_row][vc_row full_width=“stretch_row“ hide_bg_image_on_tablet=““ hide_bg_image_on_mobile=““ row_delimiter=““ hide_on_desktop=“1″ hide_on_notebook=“1″ hide_on_tablet=“1″ hide_on_mobile=““ hide_on_frontpage=““][vc_column icons_position=“left“][vc_empty_space height=“1em“ alter_height=“none“ hide_on_desktop=““ hide_on_notebook=““ hide_on_tablet=““ hide_on_mobile=““][vc_single_image image=“3680″ img_size=“medium“ css=“.vc_custom_1705687468588{padding-top: 10px !important;padding-right: 10px !important;padding-bottom: 10px !important;padding-left: 10px !important;}“][vc_empty_space height=“1em“ alter_height=“none“ hide_on_desktop=““ hide_on_notebook=““ hide_on_tablet=““ hide_on_mobile=““][vc_single_image image=“1797″ img_size=“medium“ css=“.vc_custom_1729101604495{padding-top: 10px !important;padding-right: 10px !important;padding-bottom: 10px !important;padding-left: 10px !important;}“][vc_empty_space height=“0.6em“ alter_height=“none“ hide_on_desktop=““ hide_on_notebook=““ hide_on_tablet=““ hide_on_mobile=““][vc_single_image image=“2899″ img_size=“medium“ css=“.vc_custom_1729101636529{padding-top: 10px !important;padding-right: 10px !important;padding-bottom: 10px !important;padding-left: 10px !important;}“][vc_empty_space height=“1em“ alter_height=“none“ hide_on_desktop=““ hide_on_notebook=““ hide_on_tablet=““ hide_on_mobile=““][/vc_column][/vc_row]
URL:https://edp-koeln.de/event/nevis-gute-katze-boese-katze/
CATEGORIES:Konzert
ATTACH;FMTTYPE=image/jpeg:https://edp-koeln.de/wp-content/uploads/2025/07/nevis_gkbk_homepage-scaled.jpg
END:VEVENT
END:VCALENDAR