BEGIN:VCALENDAR
VERSION:2.0
PRODID:-//E.D.P. - ECPv6.15.20//NONSGML v1.0//EN
CALSCALE:GREGORIAN
METHOD:PUBLISH
X-ORIGINAL-URL:https://edp-koeln.de
X-WR-CALDESC:Veranstaltungen für E.D.P.
REFRESH-INTERVAL;VALUE=DURATION:PT1H
X-Robots-Tag:noindex
X-PUBLISHED-TTL:PT1H
BEGIN:VTIMEZONE
TZID:Europe/Berlin
BEGIN:DAYLIGHT
TZOFFSETFROM:+0100
TZOFFSETTO:+0200
TZNAME:CEST
DTSTART:20220327T010000
END:DAYLIGHT
BEGIN:STANDARD
TZOFFSETFROM:+0200
TZOFFSETTO:+0100
TZNAME:CET
DTSTART:20221030T010000
END:STANDARD
BEGIN:DAYLIGHT
TZOFFSETFROM:+0100
TZOFFSETTO:+0200
TZNAME:CEST
DTSTART:20230326T010000
END:DAYLIGHT
BEGIN:STANDARD
TZOFFSETFROM:+0200
TZOFFSETTO:+0100
TZNAME:CET
DTSTART:20231029T010000
END:STANDARD
BEGIN:DAYLIGHT
TZOFFSETFROM:+0100
TZOFFSETTO:+0200
TZNAME:CEST
DTSTART:20240331T010000
END:DAYLIGHT
BEGIN:STANDARD
TZOFFSETFROM:+0200
TZOFFSETTO:+0100
TZNAME:CET
DTSTART:20241027T010000
END:STANDARD
END:VTIMEZONE
BEGIN:VEVENT
DTSTART;TZID=Europe/Berlin:20230909T200000
DTEND;TZID=Europe/Berlin:20230909T220000
DTSTAMP:20260425T201906
CREATED:20230707T111305Z
LAST-MODIFIED:20231024T144809Z
UID:3528-1694289600-1694296800@edp-koeln.de
SUMMARY:iedereen - Releaseparty
DESCRIPTION:[vc_row][vc_column icons_position=“left“][vc_row_inner][vc_column_inner width=“2/3″ icons_position=“left“][vc_column_text] \niedereen\nReleaseparty \nDie Intimität ihrer langjährigen Freundschaft erlaubt es der Band iedereen\, tief in die eigenen Abgründe zu blicken und diese schamlos zur Schau zu stellen. Daraus erwächst eine unverblümt aggressive Auseinandersetzung mit dem Ekel des Privilegs und der eigenen Bequemlichkeit. \nKompromisslos zerhacken sie ihr toxisches Spiegelbild mit brachialen Post-Punk Sounds und erbitterten Vocals\, die bildhaft vieldeutige Geschichten erzählen. Wenn die Scherben des Spiegels dabei die Außenhaut der eigenen Bubble einschneiden\, ist das dem Duo\, dessen Name auf Niederländisch „Alle” bedeutet\, nur recht. Vielleicht wären die Einschnitte groß genug\, um sich einander die Hände reichen zu können und dann in einem Reigen durch den Moshpit zu tanzen. Bis einfach alles zerplatzt. \nSa. 09.09.22 | Einlass 19 h | Beginn 20 h[/vc_column_text][vc_empty_space height=“1em“ alter_height=“none“ hide_on_desktop=““ hide_on_notebook=““ hide_on_tablet=““ hide_on_mobile=““][/vc_column_inner][vc_column_inner width=“1/3″ icons_position=“left“][vc_empty_space height=“2em“ alter_height=“none“ hide_on_desktop=““ hide_on_notebook=““ hide_on_tablet=““ hide_on_mobile=““][/vc_column_inner][vc_column_inner width=“1/3″ icons_position=“left“]\n			Vorverkauf11\,- Euro Preis inklusive Gebühren \n(Abendkasse 12 Euro) Jetzt kaufen[/vc_column_inner][/vc_row_inner][vc_empty_space height=“2em“ alter_height=“none“ hide_on_desktop=““ hide_on_notebook=““ hide_on_tablet=““ hide_on_mobile=““][vc_row_inner][vc_column_inner width=“1/2″ icons_position=“left“][vc_column_text][/vc_column_text][/vc_column_inner][vc_column_inner width=“1/2″ icons_position=“left“][vc_column_text][/vc_column_text][/vc_column_inner][/vc_row_inner][/vc_column][/vc_row]
URL:https://edp-koeln.de/event/iedereen-releaseparty/
CATEGORIES:Konzert
ATTACH;FMTTYPE=image/jpeg:https://edp-koeln.de/wp-content/uploads/2022/08/iedereen.jpg
END:VEVENT
BEGIN:VEVENT
DTSTART;TZID=Europe/Berlin:20230930T200000
DTEND;TZID=Europe/Berlin:20230930T220000
DTSTAMP:20260425T201906
CREATED:20230715T103341Z
LAST-MODIFIED:20230720T120724Z
UID:3549-1696104000-1696111200@edp-koeln.de
SUMMARY:False Lefty
DESCRIPTION:[vc_row][vc_column icons_position=“left“][vc_row_inner][vc_column_inner width=“2/3″ icons_position=“left“][vc_column_text] \nFalse Lefty\nFALSE LEFTY bricht mit Perfektionismus\, reduziert sich von Überflüssigem und lässt das Unwichtige weg. Das\, was bleibt: Musik! \nMusik\, die einem direkt ins Gesicht schlägt\, voller Energie und schnörkelloser Spielfreude\, da sich bekannterweise jede Impulsivität verliert\, wenn man “richtig“ spielt\, wenn alles bis zum Ende aufeinander abgestimmt ist. FALSE LEFTY setzt auf einen Minimalismus\, der die Hoffnung weckt\, dass es doch so wenig braucht\, um gute Musik zu machen – Eine Vision\, zwei Menschen\, drei Saiten\, drei Trommeln. \nFALSE LEFTY gründeten sich im Sommer 2022 aus der Notwendigkeit heraus\, der ewigen Schleife der Über-Präzision entkommen zu wollen\, und bedienen sich dem back-to-basic-Prinzip\, um Gitarrenmusik im Sinne der Post-Punk-Bewegung neu zu interpretieren. Musik\, die sich nicht im Detailreichtum verliert\, sondern auf treibende Beats und kraftvolles Songwriting setzt. \nFragen nach dem Wert des Equipment oder ausgefuchsten Spieltechniken sind bei FALSE LEFTY fehlplatziert. Die Frage ist nicht\, was gute Musik braucht\, sondern was gute Musik nicht braucht! \nDafür steht FALSE LEFT und das im wahrsten Sinne\, denn einen Drum-Hocker\, eine vollbesaitete Gitarre und Elitarismus braucht sie schon mal nicht. \nSa. 30.09.23 | Einlass 19 h | Beginn 20 h[/vc_column_text][/vc_column_inner][vc_column_inner width=“1/3″ icons_position=“left“][vc_empty_space height=“2em“ alter_height=“none“ hide_on_desktop=““ hide_on_notebook=““ hide_on_tablet=““ hide_on_mobile=““][/vc_column_inner][vc_column_inner width=“1/3″ icons_position=“left“]\n			Vorverkauf11\,- Euro Preis inklusive Gebühren \n(Abendkasse 12 Euro) Jetzt kaufen[/vc_column_inner][/vc_row_inner][vc_empty_space height=“2em“ alter_height=“none“ hide_on_desktop=““ hide_on_notebook=““ hide_on_tablet=““ hide_on_mobile=““][vc_row_inner][vc_column_inner width=“1/2″ icons_position=“left“][vc_column_text][/vc_column_text][/vc_column_inner][vc_column_inner width=“1/2″ icons_position=“left“][vc_column_text][/vc_column_text][/vc_column_inner][/vc_row_inner][/vc_column][/vc_row]
URL:https://edp-koeln.de/event/false-lefty/
CATEGORIES:Konzert
ATTACH;FMTTYPE=image/jpeg:https://edp-koeln.de/wp-content/uploads/2023/07/false-leftycInaBohnsack2.jpg
END:VEVENT
END:VCALENDAR