BEGIN:VCALENDAR
VERSION:2.0
PRODID:-//E.D.P. - ECPv6.15.20//NONSGML v1.0//EN
CALSCALE:GREGORIAN
METHOD:PUBLISH
X-WR-CALNAME:E.D.P.
X-ORIGINAL-URL:https://edp-koeln.de
X-WR-CALDESC:Veranstaltungen für E.D.P.
REFRESH-INTERVAL;VALUE=DURATION:PT1H
X-Robots-Tag:noindex
X-PUBLISHED-TTL:PT1H
BEGIN:VTIMEZONE
TZID:Europe/Berlin
BEGIN:DAYLIGHT
TZOFFSETFROM:+0100
TZOFFSETTO:+0200
TZNAME:CEST
DTSTART:20220327T010000
END:DAYLIGHT
BEGIN:STANDARD
TZOFFSETFROM:+0200
TZOFFSETTO:+0100
TZNAME:CET
DTSTART:20221030T010000
END:STANDARD
BEGIN:DAYLIGHT
TZOFFSETFROM:+0100
TZOFFSETTO:+0200
TZNAME:CEST
DTSTART:20230326T010000
END:DAYLIGHT
BEGIN:STANDARD
TZOFFSETFROM:+0200
TZOFFSETTO:+0100
TZNAME:CET
DTSTART:20231029T010000
END:STANDARD
BEGIN:DAYLIGHT
TZOFFSETFROM:+0100
TZOFFSETTO:+0200
TZNAME:CEST
DTSTART:20240331T010000
END:DAYLIGHT
BEGIN:STANDARD
TZOFFSETFROM:+0200
TZOFFSETTO:+0100
TZNAME:CET
DTSTART:20241027T010000
END:STANDARD
END:VTIMEZONE
BEGIN:VEVENT
DTSTART;VALUE=DATE:20231216
DTEND;VALUE=DATE:20231218
DTSTAMP:20260425T155945
CREATED:20231024T153735Z
LAST-MODIFIED:20231104T075209Z
UID:3690-1702713600-1702799999@edp-koeln.de
SUMMARY:17 Jahre EDP!
DESCRIPTION:[vc_row][/vc_row][vc_column icons_position=“left“][/vc_column][vc_row_inner][vc_column_inner width=“2/3″ icons_position=“left“][vc_column_text] \nE.D.P. Veranstaltung in der BüzE\nAdresse: Venloer Str. 429\, 50825 Köln (gegenüber vom E.D.P.) \n17 Jahre EDP!\nMit folgenden Bands: \nFORTUNA EHRENFELD  \nFALSE LEFTY  \nIEDEREEN \nSCHNUPPE \nEinlass 19:00 | Beginn: 20:00\nVVK: 28\,- € (+ Geb.) | Ab November VVK im EDP an der Theke: 28\,- € (ohne Geb.) | AK: 35\,- € \nmit freundlicher Unterstützung von:\nINITIATIVE MUSIK gGmbH\nDie Beauftragte der Bundesregierung für Kultur und Medien\nGILDEN KÖLSCH\nKULTURAMT STADT KÖLN[/vc_column_text][vc_empty_space height=“2em“ alter_height=“none“ hide_on_desktop=““ hide_on_notebook=““ hide_on_tablet=““ hide_on_mobile=““][vc_column_text] \nProgramm:\n[/vc_column_text][vc_empty_space height=“1em“ alter_height=“none“ hide_on_desktop=““ hide_on_notebook=““ hide_on_tablet=““ hide_on_mobile=““][/vc_column_inner][vc_column_inner width=“1/3″ icons_position=“left“][vc_empty_space height=“2em“ alter_height=“none“ hide_on_desktop=““ hide_on_notebook=““ hide_on_tablet=““ hide_on_mobile=““][/vc_column_inner][vc_column_inner width=“1/3″ icons_position=“left“]\n			Vorverkauf30\,80 Euro Preis inklusive Gebühren \n(Abendkasse 35 Euro) Jetzt kaufen[vc_empty_space height=“1.5em“ alter_height=“none“ hide_on_desktop=““ hide_on_notebook=““ hide_on_tablet=““ hide_on_mobile=““][/vc_column_inner][/vc_row_inner][vc_row_inner][vc_column_inner width=“2/3″ icons_position=“left“][vc_column_text]Non Stop Dancing mit FORTUNA EHRENFELD \nÜber dem Kölner Nachthimmel bahnt sich eine kleine Sensation an. \nDenn FORTUNA EHRENFELD werden exklusiv und nur ein einziges Mal an diesem Abend in Köln eine Show spielen\, die für das EDP Jubiläum wie geschaffen ist und die Martin\, Sänger und Kopf der Band\, so beschreibt: \n„Keine Gefangenen +++ keine Ansagen +++ keine Pausen +++ keine Balladen +++ nur das tanzbare Zeug und on top unsere allerliebsten Dancefloorkracher in nie gehörten Coverversionen!“ \n+++ Boom\, Boom\, Boom +++ \nEin durchgehender\, groovender Flow aus dem Fortuna Universum und einem nie gehörten Mix von den funky 70s bis zum deepen Rave. \nHabt ihr auch schon mal auf den Fortuna Konzerten gedacht\, dass „Analoge Mädchen“ hätte auch gerne noch ein paar Minuten weiter ballern können? \nUnd wer schon einmal dabei war\, wenn Fortuna aus der loungigen „Matrosen“ Version einen 20 minütigen Dark Rave zaubern\, der weiß\, was in dieser Nacht alles geschehen kann. antispecht.de/fortuna[/vc_column_text][/vc_column_inner][vc_column_inner width=“1/3″ icons_position=“left“][vc_empty_space height=“3em“ alter_height=“none“ hide_on_desktop=““ hide_on_notebook=““ hide_on_tablet=“1″ hide_on_mobile=“1″][vc_single_image image=“3696″ img_size=“full“ onclick=“link_image“][vc_empty_space height=“2em“ alter_height=“none“ hide_on_desktop=““ hide_on_notebook=““ hide_on_tablet=““ hide_on_mobile=““][/vc_column_inner][/vc_row_inner][vc_row_inner][vc_column_inner width=“2/3″ icons_position=“left“][vc_empty_space height=“2em“ alter_height=“none“ hide_on_desktop=““ hide_on_notebook=““ hide_on_tablet=““ hide_on_mobile=““][vc_column_text]IEDEREEN \nDas Duo in der Rockmusik funktioniert nach dem Prinzip der Reduktion. Weniger ist mehr\, heißt die Devise\, wenn man wie Tom Sinke (Gesang\, Gitarre) und Ron Hufnaegels (Schlagzeug) nur zu zweit auf der Bühne steht. Da muss man einfach mit höherem Engagement spielen\, und es ist vor allem die Dringlichkeit und die Energie der beiden Freunde\, die einen direkt am Kragen packt. \nHaben wir 2023 oder 1981? Ist das Post-Punk\, Noise-Rock oder Alt-Pop? Wollen die jetzt düster oder fröhlich klingen? IEDEREEN lassen diese Fragen gut und gerne offen. Sie zeigen trotz kleinstmöglicher Besetzung eine größtmögliche musikalische Spannbreite\, die durch die herrlich rotzige Attitüde der Band zusammengehalten wird. iedereen.de[/vc_column_text][/vc_column_inner][vc_column_inner width=“1/3″ icons_position=“left“][vc_empty_space height=“4em“ alter_height=“none“ hide_on_desktop=““ hide_on_notebook=““ hide_on_tablet=“1″ hide_on_mobile=“1″][vc_single_image image=“3694″ img_size=“full“ onclick=“link_image“][vc_empty_space height=“2em“ alter_height=“none“ hide_on_desktop=““ hide_on_notebook=““ hide_on_tablet=““ hide_on_mobile=““][/vc_column_inner][/vc_row_inner][vc_row_inner][vc_column_inner width=“2/3″ icons_position=“left“][vc_empty_space height=“2em“ alter_height=“none“ hide_on_desktop=““ hide_on_notebook=““ hide_on_tablet=““ hide_on_mobile=““][vc_column_text]FALSE LEFTY \nFalse Lefty gründeten sich im Sommer 2022 aus der Notwendigkeit heraus\, der ewigen Schleife der Über-Präzision entkommen zu wollen\, und bedienen sich dem back-to-basic-Prinzip\, um Gitarrenmusik im Sinne der Post-Punk-Bewegung neu zu interpretieren. Musik\, die sich nicht im Detailreichtum verliert\, sondern auf treibende Beats und kraftvolles Songwriting setzt. \nFalse Lefty bricht mit Perfektionismus\, reduziert sich von Überflüssigem und lässt das Unwichtige weg. Das\, was bleibt: Musik! www.false-lefty.com[/vc_column_text][/vc_column_inner][vc_column_inner width=“1/3″ icons_position=“left“][vc_empty_space height=“4em“ alter_height=“none“ hide_on_desktop=““ hide_on_notebook=““ hide_on_tablet=“1″ hide_on_mobile=“1″][vc_single_image image=“3551″ img_size=“full“ onclick=“link_image“][vc_empty_space height=“2em“ alter_height=“none“ hide_on_desktop=““ hide_on_notebook=““ hide_on_tablet=““ hide_on_mobile=““][/vc_column_inner][/vc_row_inner][vc_row_inner][vc_column_inner width=“2/3″ icons_position=“left“][vc_empty_space height=“2em“ alter_height=“none“ hide_on_desktop=““ hide_on_notebook=““ hide_on_tablet=““ hide_on_mobile=““][vc_column_text]SCHNUPPE \nDie all-female NDW\, Post-Punk\, Noise-Pop Experience aus Köln. \nDie Songs von SCHNUPPE gehen ohne Umwege ins Ohr und in die Beine\, denn NDW\, (Post-) Punk und garagige Sounds ergeben einen unwiderstehlich kratzbürstigen Mix. Die Texte sind voller Humor und Selbstironie – so ziemlich alle bekommen darin ihr Fett weg. \nSchnuppe steht für: rotzig\, lässig\, feminin! schnuppe.bandcamp.com[/vc_column_text][/vc_column_inner][vc_column_inner width=“1/3″ icons_position=“left“][vc_empty_space height=“4em“ alter_height=“none“ hide_on_desktop=““ hide_on_notebook=““ hide_on_tablet=“1″ hide_on_mobile=“1″][vc_single_image image=“3697″ img_size=“full“ onclick=“link_image“][vc_empty_space height=“1em“ alter_height=“none“ hide_on_desktop=““ hide_on_notebook=““ hide_on_tablet=““ hide_on_mobile=““][/vc_column_inner][/vc_row_inner][vc_row][vc_column icons_position=“left“][vc_column_text] \nGesponsert von:\n[/vc_column_text][vc_empty_space height=“1em“ alter_height=“none“ hide_on_desktop=““ hide_on_notebook=““ hide_on_tablet=““ hide_on_mobile=““][vc_gallery type=“image_grid“ images=“1797\,2899\,3680″ img_size=“medium“][/vc_column][/vc_row]
URL:https://edp-koeln.de/event/17-jahre-edp/
CATEGORIES:Konzert
ATTACH;FMTTYPE=image/jpeg:https://edp-koeln.de/wp-content/uploads/2023/10/17-jahre-edp.jpg
END:VEVENT
END:VCALENDAR