BEGIN:VCALENDAR
VERSION:2.0
PRODID:-//E.D.P. - ECPv6.15.20//NONSGML v1.0//EN
CALSCALE:GREGORIAN
METHOD:PUBLISH
X-WR-CALNAME:E.D.P.
X-ORIGINAL-URL:https://edp-koeln.de
X-WR-CALDESC:Veranstaltungen für E.D.P.
REFRESH-INTERVAL;VALUE=DURATION:PT1H
X-Robots-Tag:noindex
X-PUBLISHED-TTL:PT1H
BEGIN:VTIMEZONE
TZID:Europe/Berlin
BEGIN:DAYLIGHT
TZOFFSETFROM:+0100
TZOFFSETTO:+0200
TZNAME:CEST
DTSTART:20230326T010000
END:DAYLIGHT
BEGIN:STANDARD
TZOFFSETFROM:+0200
TZOFFSETTO:+0100
TZNAME:CET
DTSTART:20231029T010000
END:STANDARD
BEGIN:DAYLIGHT
TZOFFSETFROM:+0100
TZOFFSETTO:+0200
TZNAME:CEST
DTSTART:20240331T010000
END:DAYLIGHT
BEGIN:STANDARD
TZOFFSETFROM:+0200
TZOFFSETTO:+0100
TZNAME:CET
DTSTART:20241027T010000
END:STANDARD
BEGIN:DAYLIGHT
TZOFFSETFROM:+0100
TZOFFSETTO:+0200
TZNAME:CEST
DTSTART:20250330T010000
END:DAYLIGHT
BEGIN:STANDARD
TZOFFSETFROM:+0200
TZOFFSETTO:+0100
TZNAME:CET
DTSTART:20251026T010000
END:STANDARD
END:VTIMEZONE
BEGIN:VEVENT
DTSTART;TZID=Europe/Berlin:20241213T200000
DTEND;TZID=Europe/Berlin:20241213T220000
DTSTAMP:20260424T205500
CREATED:20240914T114556Z
LAST-MODIFIED:20241204T192113Z
UID:4189-1734120000-1734127200@edp-koeln.de
SUMMARY:TRAMHAUS (NL)
DESCRIPTION:[vc_row][vc_column icons_position=“left“][vc_row_inner][vc_column_inner width=“2/3″ icons_position=“left“][vc_column_text] \nTramhaus (NL)\nAuftaktkonzert zu „18 Jahre EDP! \nIn der relativ kurzen Zeit ihres Bestehens hat es Tramhaus geschafft\, sich weit über die Grenzen ihrer Heimatstadt hinaus einen Namen zu machen. \nGeprägt von ihrer freudigen und energiegeladenen Ausstrahlung hat die Band bewiesen\, dass sie diese Botschaft sowohl live als auch auf Aufnahmen überzeugend vermitteln kann. \nDie Musik von Tramhaus fühlt sich an wie der Soundtrack zu einer lebhaften\, mysteriösen und gefährlichen Geschichte. Es gibt keinen Moment zum Zurücklehnen\, denn die Band nimmt einen mit auf ein emotionales und euphorisches Wettrennen\, angetrieben von stromlinienförmigen\, feurigen Songs\, die mit fragilen und abstrakten Tönen gemischt sind. \nDieses ganze Spektakel wird durch die nahezu symbiotische Beziehung der fünf Bandmitglieder befeuert. \nFr. 13.12.24 | Einlass 19 h | Beginn 20 h[/vc_column_text][vc_empty_space height=“1em“ alter_height=“none“ hide_on_desktop=““ hide_on_notebook=““ hide_on_tablet=““ hide_on_mobile=““][/vc_column_inner][vc_column_inner width=“1/3″ icons_position=“left“][vc_empty_space height=“2em“ alter_height=“none“ hide_on_desktop=““ hide_on_notebook=““ hide_on_tablet=““ hide_on_mobile=““][/vc_column_inner][vc_column_inner width=“1/3″ icons_position=“left“]\n			Ausverkauft!19\,80  Euro Preis inklusive Gebühren \n(Abendkasse 24 Euro) Jetzt kaufen[vc_empty_space height=“2em“ alter_height=“none“ hide_on_desktop=““ hide_on_notebook=““ hide_on_tablet=““ hide_on_mobile=““][/vc_column_inner][/vc_row_inner][vc_empty_space height=“2em“ alter_height=“none“ hide_on_desktop=““ hide_on_notebook=““ hide_on_tablet=““ hide_on_mobile=““][vc_row_inner][vc_column_inner width=“1/2″ icons_position=“left“][vc_column_text][/vc_column_text][/vc_column_inner][vc_column_inner width=“1/2″ icons_position=“left“][/vc_column_inner][/vc_row_inner][/vc_column][/vc_row][vc_row][vc_column icons_position=“left“][vc_column_text]\n[/vc_column_text][/vc_column][/vc_row][vc_row][vc_column icons_position=“left“][vc_column_text] \nGesponsert von:\n[/vc_column_text][vc_empty_space height=“1em“ alter_height=“none“ hide_on_desktop=““ hide_on_notebook=““ hide_on_tablet=““ hide_on_mobile=““][/vc_column][/vc_row][vc_row full_width=“stretch_row“ hide_bg_image_on_tablet=““ hide_bg_image_on_mobile=““ row_delimiter=““ hide_on_desktop=““ hide_on_notebook=““ hide_on_tablet=““ hide_on_mobile=“1″ hide_on_frontpage=““][vc_column width=“1/3″ icons_position=“left“][vc_single_image image=“3680″ img_size=“medium“ css=“.vc_custom_1705687468588{padding-top: 10px !important;padding-right: 10px !important;padding-bottom: 10px !important;padding-left: 10px !important;}“][/vc_column][vc_column width=“1/3″ icons_position=“left“][vc_single_image image=“1797″ img_size=“medium“ css=“.vc_custom_1729101604495{padding-top: 10px !important;padding-right: 10px !important;padding-bottom: 10px !important;padding-left: 10px !important;}“][/vc_column][vc_column width=“1/3″ icons_position=“left“][vc_single_image image=“2899″ img_size=“medium“ css=“.vc_custom_1729101636529{padding-top: 10px !important;padding-right: 10px !important;padding-bottom: 10px !important;padding-left: 10px !important;}“][/vc_column][/vc_row][vc_row full_width=“stretch_row“ hide_bg_image_on_tablet=““ hide_bg_image_on_mobile=““ row_delimiter=““ hide_on_desktop=“1″ hide_on_notebook=“1″ hide_on_tablet=“1″ hide_on_mobile=““ hide_on_frontpage=““][vc_column icons_position=“left“][vc_empty_space height=“1em“ alter_height=“none“ hide_on_desktop=““ hide_on_notebook=““ hide_on_tablet=““ hide_on_mobile=““][vc_single_image image=“3680″ img_size=“medium“ css=“.vc_custom_1705687468588{padding-top: 10px !important;padding-right: 10px !important;padding-bottom: 10px !important;padding-left: 10px !important;}“][vc_empty_space height=“1em“ alter_height=“none“ hide_on_desktop=““ hide_on_notebook=““ hide_on_tablet=““ hide_on_mobile=““][vc_single_image image=“1797″ img_size=“medium“ css=“.vc_custom_1729101604495{padding-top: 10px !important;padding-right: 10px !important;padding-bottom: 10px !important;padding-left: 10px !important;}“][vc_empty_space height=“0.6em“ alter_height=“none“ hide_on_desktop=““ hide_on_notebook=““ hide_on_tablet=““ hide_on_mobile=““][vc_single_image image=“2899″ img_size=“medium“ css=“.vc_custom_1729101636529{padding-top: 10px !important;padding-right: 10px !important;padding-bottom: 10px !important;padding-left: 10px !important;}“][vc_empty_space height=“1em“ alter_height=“none“ hide_on_desktop=““ hide_on_notebook=““ hide_on_tablet=““ hide_on_mobile=““][/vc_column][/vc_row]
URL:https://edp-koeln.de/event/tramhaus-nl-auftaktkonzert-zu-18-jahre-edp/
CATEGORIES:Konzert
ATTACH;FMTTYPE=image/jpeg:https://edp-koeln.de/wp-content/uploads/2024/09/TramhausbyMicheleMargot4STORY.jpg
END:VEVENT
BEGIN:VEVENT
DTSTART;TZID=Europe/Berlin:20241214T193000
DTEND;TZID=Europe/Berlin:20241214T223000
DTSTAMP:20260424T205500
CREATED:20241011T120012Z
LAST-MODIFIED:20241016T185302Z
UID:4216-1734204600-1734215400@edp-koeln.de
SUMMARY:18 Jahre E.D.P.!
DESCRIPTION:[vc_row][/vc_row][vc_column icons_position=“left“][/vc_column][vc_row_inner][vc_column_inner width=“2/3″ icons_position=“left“][vc_column_text] \nE.D.P. Veranstaltung in der BüzE\nAdresse: Venloer Str. 429\, 50825 Köln (gegenüber vom E.D.P.) \n18 Jahre EDP!\nMit folgenden Bands: \nIEDEREEN \nDAILY THOMPSON \nTHE RED FLAGS  \nBRIGITTE HANDLEY \nEinlass 18:30 | Beginn: 19:30 \nVVK: 27\,50 € (inkl. Geb.) | Early Bird Tickets: 24\,10 € | \nVVK im E.D.P. an der Theke: 25\,- € | Early Bird Tickets: 22\,- € (ohne Geb.) \nAftershow Party im EDP\nIm Anschluss an die Konzerte im BüZe gibt es eine Aftershow Party im EDP mit den DJanes GLITTER & GLOW und GLEAM\n-> Einlass hierzu je nach Kapazität vorbehalten \n  \nmit freundlicher Unterstützung von:\nKULTURAMT STADT KÖLN[/vc_column_text][vc_empty_space height=“2em“ alter_height=“none“ hide_on_desktop=““ hide_on_notebook=““ hide_on_tablet=““ hide_on_mobile=““][vc_column_text] \nProgramm:\n[/vc_column_text][vc_empty_space height=“1em“ alter_height=“none“ hide_on_desktop=““ hide_on_notebook=““ hide_on_tablet=““ hide_on_mobile=““][/vc_column_inner][vc_column_inner width=“1/3″ icons_position=“left“][vc_empty_space height=“2em“ alter_height=“none“ hide_on_desktop=““ hide_on_notebook=““ hide_on_tablet=““ hide_on_mobile=““][/vc_column_inner][vc_column_inner width=“1/3″ icons_position=“left“]\n			VorverkaufAb 24\,20 Euro Preis inklusive Gebühren \nJetzt kaufen[vc_empty_space height=“1.5em“ alter_height=“none“ hide_on_desktop=““ hide_on_notebook=““ hide_on_tablet=““ hide_on_mobile=““][/vc_column_inner][/vc_row_inner][vc_row_inner][vc_column_inner width=“2/3″ icons_position=“left“][vc_column_text]IEDEREEN \nDas Duo in der Rockmusik funktioniert nach dem Prinzip der Reduktion. Weniger ist mehr\, heißt die Devise\, wenn man wie Tom Sinke (Gesang\, Gitarre) und Ron Hufnaegels (Schlagzeug) nur zu zweit auf der Bühne steht. Da muss man einfach mit höherem Engagement spielen\, und es ist vor allem die Dringlichkeit und die Energie der beiden Freunde\, die einen direkt am Kragen packt. \nHaben wir 2023 oder 1981? Ist das Post-Punk\, Noise-Rock oder Alt-Pop? Wollen die jetzt düster oder fröhlich klingen? IEDEREEN lassen diese Fragen gut und gerne offen. Sie zeigen trotz kleinstmöglicher Besetzung eine größtmögliche musikalische Spannbreite\, die durch die herrlich rotzige Attitüde der Band zusammengehalten wird. iedereen.de[/vc_column_text][/vc_column_inner][vc_column_inner width=“1/3″ icons_position=“left“][vc_empty_space height=“3em“ alter_height=“none“ hide_on_desktop=““ hide_on_notebook=““ hide_on_tablet=“1″ hide_on_mobile=“1″][vc_single_image image=“3694″ img_size=“full“ onclick=“link_image“][vc_empty_space height=“2em“ alter_height=“none“ hide_on_desktop=““ hide_on_notebook=““ hide_on_tablet=““ hide_on_mobile=““][/vc_column_inner][/vc_row_inner][vc_row_inner][vc_column_inner width=“2/3″ icons_position=“left“][vc_empty_space height=“2em“ alter_height=“none“ hide_on_desktop=““ hide_on_notebook=““ hide_on_tablet=““ hide_on_mobile=““][vc_column_text]DAILY THOMPSON \nDas Trio verkörpert die sprichwörtliche Arbeiter-Mentalität aus dem tiefen Westen. Denn irgendwie sind sie immer auf Tour\, selbst wenn die Band eine Pause hat sitzen sie im Tourbus und es erstaunt wenig\, dass sie im Mai diesen Jahres ihr sechstes Studioalbum veröffentlichen. \nDie Band hat ihren eigenen Sound gefunden und haben zwischen Alternative und Grunge\, zwischen Stoner Riffs und Desert-/ Spacerock Hymnen ihren eigenen „Desert Grunge“ kreiert. \nDie Umgebung von Port Orchard war sicherlich eine inspirierende Kulisse für diese Aufnahmesessions\, die dem Album nicht nur die Schönheit des pazifischen Nordwestens überstülpte und den charakteristischen Sound der Band schärfte\, sondern der Band auch den Geist der musikalischen Historie des Nord-Westens der USA einhauchte. dailythompsonband.bandcamp.com[/vc_column_text][/vc_column_inner][vc_column_inner width=“1/3″ icons_position=“left“][vc_empty_space height=“4em“ alter_height=“none“ hide_on_desktop=““ hide_on_notebook=““ hide_on_tablet=“1″ hide_on_mobile=“1″][vc_single_image image=“4230″ img_size=“full“ onclick=“link_image“][vc_empty_space height=“2em“ alter_height=“none“ hide_on_desktop=““ hide_on_notebook=““ hide_on_tablet=““ hide_on_mobile=““][/vc_column_inner][/vc_row_inner][vc_row_inner][vc_column_inner width=“2/3″ icons_position=“left“][vc_empty_space height=“2em“ alter_height=“none“ hide_on_desktop=““ hide_on_notebook=““ hide_on_tablet=““ hide_on_mobile=““][vc_column_text]THE RED FLAGS \nIrgendwo zwischen Grunge\, Punk und Alternative Rock – The Red Flags nutzen ihre Musik\, um der Wut und den Sorgen\, die sie jeden Tag beschäftigen\, Ausdruck zu verleihen. Ob über Feminismus\, Identität\, soziale Ungleichheiten oder zwischenmenschliche Beziehungen\, ihre Songs sind laut\, chaotisch und bringen eine ganz besondere Energie auf die Bühne. \nInspiriert durch legendäre Bands wie Nirvana\, Hole und die Dead Kennedys\, sowie aktuelle Musiker*innen wie Amyl and the Sniffers oder Greta Van Fleet\, legt die Band aus Köln einen alten Sound modern auf und macht sich damit so langsam einen Namen in der Underground Szene der Stadt. theredflags.de[/vc_column_text][/vc_column_inner][vc_column_inner width=“1/3″ icons_position=“left“][vc_empty_space height=“4em“ alter_height=“none“ hide_on_desktop=““ hide_on_notebook=““ hide_on_tablet=“1″ hide_on_mobile=“1″][vc_single_image image=“4229″ img_size=“full“ onclick=“link_image“][vc_empty_space height=“2em“ alter_height=“none“ hide_on_desktop=““ hide_on_notebook=““ hide_on_tablet=““ hide_on_mobile=““][/vc_column_inner][/vc_row_inner][vc_row_inner][vc_column_inner width=“2/3″ icons_position=“left“][vc_empty_space height=“2em“ alter_height=“none“ hide_on_desktop=““ hide_on_notebook=““ hide_on_tablet=““ hide_on_mobile=““][vc_column_text]BRIGITTE HANDLEY \nBrigitte Handley ist eine australische Singer-Songwriterin und Gitarristin der Dark Shadows. Brigitte ist bekannt für ihre dunklen\, sphärischen Vocals\, Songs wie „After Dark“ und „Lament of a Lost Soul…“ und ihre fesselnden Solo-Electric-Shows\, mit atmosphärischen Videokunst Projektionen\, Soundeffekten und dem elektrisierenden Sound ihrer schwarzen Gretsch. brigittehandley.com[/vc_column_text][/vc_column_inner][vc_column_inner width=“1/3″ icons_position=“left“][vc_empty_space height=“4em“ alter_height=“none“ hide_on_desktop=““ hide_on_notebook=““ hide_on_tablet=“1″ hide_on_mobile=“1″][vc_single_image image=“2570″ img_size=“full“ onclick=“link_image“][vc_empty_space height=“1em“ alter_height=“none“ hide_on_desktop=““ hide_on_notebook=““ hide_on_tablet=““ hide_on_mobile=““][/vc_column_inner][/vc_row_inner][vc_row][vc_column icons_position=“left“][vc_column_text] \nGesponsert von:\n[/vc_column_text][vc_empty_space height=“1em“ alter_height=“none“ hide_on_desktop=““ hide_on_notebook=““ hide_on_tablet=““ hide_on_mobile=““][/vc_column][/vc_row][vc_row full_width=“stretch_row“ hide_bg_image_on_tablet=““ hide_bg_image_on_mobile=““ row_delimiter=““ hide_on_desktop=““ hide_on_notebook=““ hide_on_tablet=““ hide_on_mobile=“1″ hide_on_frontpage=““][vc_column width=“1/3″ icons_position=“left“][vc_single_image image=“3680″ img_size=“medium“ css=“.vc_custom_1705687468588{padding-top: 10px !important;padding-right: 10px !important;padding-bottom: 10px !important;padding-left: 10px !important;}“][/vc_column][vc_column width=“1/3″ icons_position=“left“][vc_single_image image=“1797″ img_size=“medium“ css=“.vc_custom_1729101604495{padding-top: 10px !important;padding-right: 10px !important;padding-bottom: 10px !important;padding-left: 10px !important;}“][/vc_column][vc_column width=“1/3″ icons_position=“left“][vc_single_image image=“2899″ img_size=“medium“ css=“.vc_custom_1729101636529{padding-top: 10px !important;padding-right: 10px !important;padding-bottom: 10px !important;padding-left: 10px !important;}“][/vc_column][/vc_row][vc_row full_width=“stretch_row“ hide_bg_image_on_tablet=““ hide_bg_image_on_mobile=““ row_delimiter=““ hide_on_desktop=“1″ hide_on_notebook=“1″ hide_on_tablet=“1″ hide_on_mobile=““ hide_on_frontpage=““][vc_column icons_position=“left“][vc_empty_space height=“1em“ alter_height=“none“ hide_on_desktop=““ hide_on_notebook=““ hide_on_tablet=““ hide_on_mobile=““][vc_single_image image=“3680″ img_size=“medium“ css=“.vc_custom_1705687468588{padding-top: 10px !important;padding-right: 10px !important;padding-bottom: 10px !important;padding-left: 10px !important;}“][vc_empty_space height=“1em“ alter_height=“none“ hide_on_desktop=““ hide_on_notebook=““ hide_on_tablet=““ hide_on_mobile=““][vc_single_image image=“1797″ img_size=“medium“ css=“.vc_custom_1729101604495{padding-top: 10px !important;padding-right: 10px !important;padding-bottom: 10px !important;padding-left: 10px !important;}“][vc_empty_space height=“0.6em“ alter_height=“none“ hide_on_desktop=““ hide_on_notebook=““ hide_on_tablet=““ hide_on_mobile=““][vc_single_image image=“2899″ img_size=“medium“ css=“.vc_custom_1729101636529{padding-top: 10px !important;padding-right: 10px !important;padding-bottom: 10px !important;padding-left: 10px !important;}“][vc_empty_space height=“1em“ alter_height=“none“ hide_on_desktop=““ hide_on_notebook=““ hide_on_tablet=““ hide_on_mobile=““][/vc_column][/vc_row]
URL:https://edp-koeln.de/event/18-jahre-edp/
CATEGORIES:Konzert
ATTACH;FMTTYPE=image/jpeg:https://edp-koeln.de/wp-content/uploads/2024/09/18-jahre-edp-1.jpg
END:VEVENT
END:VCALENDAR