BEGIN:VCALENDAR
VERSION:2.0
PRODID:-//E.D.P. - ECPv6.15.20//NONSGML v1.0//EN
CALSCALE:GREGORIAN
METHOD:PUBLISH
X-WR-CALNAME:E.D.P.
X-ORIGINAL-URL:https://edp-koeln.de
X-WR-CALDESC:Veranstaltungen für E.D.P.
REFRESH-INTERVAL;VALUE=DURATION:PT1H
X-Robots-Tag:noindex
X-PUBLISHED-TTL:PT1H
BEGIN:VTIMEZONE
TZID:Europe/Berlin
BEGIN:DAYLIGHT
TZOFFSETFROM:+0100
TZOFFSETTO:+0200
TZNAME:CEST
DTSTART:20250330T010000
END:DAYLIGHT
BEGIN:STANDARD
TZOFFSETFROM:+0200
TZOFFSETTO:+0100
TZNAME:CET
DTSTART:20251026T010000
END:STANDARD
BEGIN:DAYLIGHT
TZOFFSETFROM:+0100
TZOFFSETTO:+0200
TZNAME:CEST
DTSTART:20260329T010000
END:DAYLIGHT
BEGIN:STANDARD
TZOFFSETFROM:+0200
TZOFFSETTO:+0100
TZNAME:CET
DTSTART:20261025T010000
END:STANDARD
BEGIN:DAYLIGHT
TZOFFSETFROM:+0100
TZOFFSETTO:+0200
TZNAME:CEST
DTSTART:20270328T010000
END:DAYLIGHT
BEGIN:STANDARD
TZOFFSETFROM:+0200
TZOFFSETTO:+0100
TZNAME:CET
DTSTART:20271031T010000
END:STANDARD
END:VTIMEZONE
BEGIN:VEVENT
DTSTART;TZID=Europe/Berlin:20260129T200000
DTEND;TZID=Europe/Berlin:20260129T220000
DTSTAMP:20260424T011914
CREATED:20251030T150711Z
LAST-MODIFIED:20260106T105537Z
UID:4699-1769716800-1769724000@edp-koeln.de
SUMMARY:MISTER WHISTLER - ABGESAGT!
DESCRIPTION:[vc_row][vc_column icons_position=“left“][vc_row_inner][vc_column_inner width=“2/3″ icons_position=“left“][vc_column_text css=““] \nDas Konzert entfällt. Einen Nachholtermin gibt es noch nicht. Gekaufte Tickets können bei Love Your Artist erstattet werden.\nMISTER WHISTLER\nMISTER WHISTLER ist ein Indie-Artist und Newcomer aus Köln\, der mit seinem Debütalbum „Paper Planes“ (Nov. 2024) eine markante Mischung aus Pop\, Neo-Blues und Postrock präsentiert. Das auf dem Kölner Label Hey!Band veröffentlichte Album vereint intime Momente mit kraftvollen Klängen und zieht das Publikum durch treibende Rhythmen und pulsierende Beats in seinen Bann. Die Songs glänzen durch ausdrucksstarke Vocals\, dynamische Arrangements und eine besondere Balance zwischen Stille und Intensität. \n„Paper Planes“ wurde von drei Singles begleitet\, darunter die dritte Single „Bone Breaker“\, die bei ByteFM vorgestellt wurde. Das Album ist auch als limitierte Marbled Vinyl-Edition erhältlich und unterstreicht damit die physische Präsenz der Veröffentlichung. Außerdem stand das Album im Mittelpunkt des Podcasts „Fragen an“ und wurde in zwei Radiofolgen bei „Herms Promi Corner“ besprochen. \nBereits 2021 erschien MISTER WHISTLERs Debüt-EP Back to Life\, die als Soundtrack zum Leben nach der Krise konzipiert war. Sie wurde als CD und digital veröffentlicht und erhielt mediale Aufmerksamkeit\, u. a. in der Kölnischen Rundschau. Ergänzt durch zwei Musikvideos und Airplay des Songs „Heavy-hearted Weight Champion“ bei WDR2 Pop zeigte die EP früh sein Potenzial. \nMit Auftritten auf lokalen und regionalen Bühnen in und um Köln hat MISTER WHISTLER seine Live-Qualitäten unter Beweis gestellt. Ein besonderes Highlight war das Release-Konzert zu „Paper Planes“ im November 2024 in Köln\, bei dem er mit seiner neuen Band das Publikum begeisterte. \nIm Vorfeld des Albums fand ein exklusives Pre-Release-Listening-Event mit Interview statt. Für 2025 plant MISTER WHISTLER weitere Konzerte\, Podcasts und Livestreams\, um seine Musik einem breiteren Publikum näher zu bringen. Ein zweites Album ist für 2026 in Planung. \nMit „Paper Planes“ möchte MISTER WHISTLER neue Türen öffnen\, sich weiterentwickeln und sein Publikum mit seiner facettenreichen Musik begeistern. Gemeinsam mit Hiromi Inomata am Bass und Anton Röser an den Drums formt er einen unverwechselbaren Bandsound\, der die Songs live zum Leben erweckt\, getragen von Gespür für Energie\, Tiefe und den gemeinsamen musikalischen Puls. \nDo.29.01.26 | Einlass 19 h | Beginn 20 h[/vc_column_text][vc_empty_space height=“2em“ alter_height=“none“ hide_on_desktop=““ hide_on_notebook=““ hide_on_tablet=““ hide_on_mobile=““][/vc_column_inner][vc_column_inner width=“1/3″ icons_position=“left“][vc_empty_space height=“2em“ alter_height=“none“ hide_on_desktop=““ hide_on_notebook=““ hide_on_tablet=““ hide_on_mobile=““][/vc_column_inner][vc_column_inner width=“1/3″ icons_position=“left“]\n			Vorverkauf16\,50 Euro (Preis inklusive Gebühren) \nAbendkasse 18 € Jetzt kaufen[/vc_column_inner][/vc_row_inner][vc_empty_space height=“2em“ alter_height=“none“ hide_on_desktop=““ hide_on_notebook=““ hide_on_tablet=““ hide_on_mobile=““][vc_row_inner][vc_column_inner width=“1/2″ icons_position=“left“][vc_column_text css=““][/vc_column_text][/vc_column_inner][vc_column_inner width=“1/2″ icons_position=“left“][/vc_column_inner][/vc_row_inner][/vc_column][/vc_row][vc_row][vc_column icons_position=“left“][vc_column_text]\n[/vc_column_text][/vc_column][/vc_row][vc_row][vc_column icons_position=“left“][vc_column_text]\n[/vc_column_text][/vc_column][/vc_row][vc_row full_width=“stretch_row“ hide_bg_image_on_tablet=““ hide_bg_image_on_mobile=““ shape_divider_top_front=““ shape_divider_bottom_front=““ row_delimiter=““ hide_on_desktop=““ hide_on_notebook=““ hide_on_tablet=““ hide_on_mobile=““ hide_on_frontpage=““][vc_column icons_position=“left“][vc_empty_space height=“0.5em“ alter_height=“none“ hide_on_desktop=““ hide_on_notebook=““ hide_on_tablet=““ hide_on_mobile=““][vc_column_text] \nGesponsert von:\n[/vc_column_text][/vc_column][/vc_row][vc_row full_width=“stretch_row“ hide_bg_image_on_tablet=““ hide_bg_image_on_mobile=““ row_delimiter=““ hide_on_desktop=““ hide_on_notebook=““ hide_on_tablet=““ hide_on_mobile=“1″ hide_on_frontpage=““][vc_column width=“1/2″ icons_position=“left“]			\n							\n			[vc_empty_space height=“1em“ alter_height=“none“ hide_on_desktop=““ hide_on_notebook=““ hide_on_tablet=““ hide_on_mobile=““][/vc_column][vc_column width=“1/2″ icons_position=“left“][/vc_column][/vc_row][vc_row full_width=“stretch_row“ hide_bg_image_on_tablet=““ hide_bg_image_on_mobile=““ row_delimiter=““ hide_on_desktop=“1″ hide_on_notebook=“1″ hide_on_tablet=“1″ hide_on_mobile=““ hide_on_frontpage=““][vc_column icons_position=“left“][vc_empty_space height=“1em“ alter_height=“none“ hide_on_desktop=““ hide_on_notebook=““ hide_on_tablet=““ hide_on_mobile=““][vc_single_image image=“3680″ img_size=“medium“ css=“.vc_custom_1705687468588{padding-top: 10px !important;padding-right: 10px !important;padding-bottom: 10px !important;padding-left: 10px !important;}“][vc_single_image image=“1797″ img_size=“medium“ css=“.vc_custom_1705687580206{padding-top: 10px !important;padding-right: 10px !important;}“][vc_empty_space height=“1em“ alter_height=“none“ hide_on_desktop=““ hide_on_notebook=““ hide_on_tablet=““ hide_on_mobile=““][/vc_column][/vc_row]
URL:https://edp-koeln.de/event/mister-whistler/
CATEGORIES:Konzert
ATTACH;FMTTYPE=image/jpeg:https://edp-koeln.de/wp-content/uploads/2025/10/MISTER-WHISTLER-Band-Foto-02-Kopie.jpg
END:VEVENT
END:VCALENDAR