BEGIN:VCALENDAR
VERSION:2.0
PRODID:-//E.D.P. - ECPv6.15.20//NONSGML v1.0//EN
CALSCALE:GREGORIAN
METHOD:PUBLISH
X-ORIGINAL-URL:https://edp-koeln.de
X-WR-CALDESC:Veranstaltungen für E.D.P.
REFRESH-INTERVAL;VALUE=DURATION:PT1H
X-Robots-Tag:noindex
X-PUBLISHED-TTL:PT1H
BEGIN:VTIMEZONE
TZID:Europe/Berlin
BEGIN:DAYLIGHT
TZOFFSETFROM:+0100
TZOFFSETTO:+0200
TZNAME:CEST
DTSTART:20220327T010000
END:DAYLIGHT
BEGIN:STANDARD
TZOFFSETFROM:+0200
TZOFFSETTO:+0100
TZNAME:CET
DTSTART:20221030T010000
END:STANDARD
BEGIN:DAYLIGHT
TZOFFSETFROM:+0100
TZOFFSETTO:+0200
TZNAME:CEST
DTSTART:20230326T010000
END:DAYLIGHT
BEGIN:STANDARD
TZOFFSETFROM:+0200
TZOFFSETTO:+0100
TZNAME:CET
DTSTART:20231029T010000
END:STANDARD
BEGIN:DAYLIGHT
TZOFFSETFROM:+0100
TZOFFSETTO:+0200
TZNAME:CEST
DTSTART:20240331T010000
END:DAYLIGHT
BEGIN:STANDARD
TZOFFSETFROM:+0200
TZOFFSETTO:+0100
TZNAME:CET
DTSTART:20241027T010000
END:STANDARD
END:VTIMEZONE
BEGIN:VEVENT
DTSTART;TZID=Europe/Berlin:20231028T200000
DTEND;TZID=Europe/Berlin:20231028T220000
DTSTAMP:20260425T193514
CREATED:20230802T115608Z
LAST-MODIFIED:20230802T154815Z
UID:3571-1698523200-1698530400@edp-koeln.de
SUMMARY:dieZelten
DESCRIPTION:[vc_row][vc_column icons_position=“left“][vc_row_inner][vc_column_inner width=“2/3″ icons_position=“left“][vc_column_text] \ndieZelten\nDas kompromissloseste Lineup in der Popmusik ist wahrscheinlich das Trio. Seit 25 Jahren loten dieZelten die Möglichkeiten dieser Konstellation aus. Druckvoller Bass\, treibende Drumgrooves\, verzerrte Gitarrenwände und vielschichtiger\, mehrstimmiger Gesang kennzeichnen den Sound der Ménage-à-trois\, der ebenso nach 90er-Indie à la Shellack\, Jawbox oder Pixies wie nach Postpunk-Referenzen wie Gang of Four\, Bauhaus oder Joy Division klingt. Im EDP spielen sie einen ihrer seltenen Livegigs – nicht verpassen! \nSupport: PLASTIC SOUP (Rock\, Americana\, Psychedelic) \n„You can’t beat 2 guitars\, bass\, drums“\, hat Lou Reed mal gesagt. Aus eben diesen Zutaten\, angereichert mit atmosphärischen Effekten und vielschichtigem Gesang\, mischt das Kölner Quartett Plastic Soup seinen ganz eigenen musikalischen Cocktail\, der nach Country\, aber auch nach City schmeckt. Plastic Soup lieben laute Riffs und treibende Beats. Sie lieben schöne Melodien\, aber noch lieber lassen sie sich gehen. Eine düstere\, schräge\, wohlig-warme psychedelische Reise. \nSa. 28.10.23 | Einlass 19 h | Beginn 20 h[/vc_column_text][/vc_column_inner][vc_column_inner width=“1/3″ icons_position=“left“][vc_empty_space height=“2em“ alter_height=“none“ hide_on_desktop=““ hide_on_notebook=““ hide_on_tablet=““ hide_on_mobile=““][/vc_column_inner][vc_column_inner width=“1/3″ icons_position=“left“]\n			Vorverkauf11\,- Euro Preis inklusive Gebühren \n(Abendkasse 12 Euro) Jetzt kaufen[/vc_column_inner][/vc_row_inner][/vc_column][/vc_row]
URL:https://edp-koeln.de/event/diezelten/
CATEGORIES:Konzert
ATTACH;FMTTYPE=image/jpeg:https://edp-koeln.de/wp-content/uploads/2023/08/dieZelten.jpg
END:VEVENT
END:VCALENDAR