BEGIN:VCALENDAR
VERSION:2.0
PRODID:-//E.D.P. - ECPv6.15.20//NONSGML v1.0//EN
CALSCALE:GREGORIAN
METHOD:PUBLISH
X-ORIGINAL-URL:https://edp-koeln.de
X-WR-CALDESC:Veranstaltungen für E.D.P.
REFRESH-INTERVAL;VALUE=DURATION:PT1H
X-Robots-Tag:noindex
X-PUBLISHED-TTL:PT1H
BEGIN:VTIMEZONE
TZID:Europe/Berlin
BEGIN:DAYLIGHT
TZOFFSETFROM:+0100
TZOFFSETTO:+0200
TZNAME:CEST
DTSTART:20220327T010000
END:DAYLIGHT
BEGIN:STANDARD
TZOFFSETFROM:+0200
TZOFFSETTO:+0100
TZNAME:CET
DTSTART:20221030T010000
END:STANDARD
BEGIN:DAYLIGHT
TZOFFSETFROM:+0100
TZOFFSETTO:+0200
TZNAME:CEST
DTSTART:20230326T010000
END:DAYLIGHT
BEGIN:STANDARD
TZOFFSETFROM:+0200
TZOFFSETTO:+0100
TZNAME:CET
DTSTART:20231029T010000
END:STANDARD
BEGIN:DAYLIGHT
TZOFFSETFROM:+0100
TZOFFSETTO:+0200
TZNAME:CEST
DTSTART:20240331T010000
END:DAYLIGHT
BEGIN:STANDARD
TZOFFSETFROM:+0200
TZOFFSETTO:+0100
TZNAME:CET
DTSTART:20241027T010000
END:STANDARD
END:VTIMEZONE
BEGIN:VEVENT
DTSTART;TZID=Europe/Berlin:20231123T200000
DTEND;TZID=Europe/Berlin:20231123T220000
DTSTAMP:20260425T143411
CREATED:20230803T152927Z
LAST-MODIFIED:20230803T153318Z
UID:3598-1700769600-1700776800@edp-koeln.de
SUMMARY:Black Magic Six
DESCRIPTION:[vc_row][vc_column icons_position=“left“][vc_row_inner][vc_column_inner width=“2/3″ icons_position=“left“][vc_column_text] \nBlack Magic Six\n“Soulful\, gritty and utterly addictive\, no one with a pulse will be able to resist Black Magic Six’s primal jam.” – Sonic Abuse webzine \nThree albums and 250 shows in 21 countries during the last five years under their belt\, Black Magic Six is Finland’s hardest working band in the underground rock´n´roll scene. A power duo consisting of a percussionist and a guitar-wielding singer\, BM6 play relentlessly emotional bursts of dark\, primal rock’n’roll energy. \nDo 23.11.23 | Einlass 19 h | Beginn 20 h[/vc_column_text][vc_empty_space height=“1em“ alter_height=“none“ hide_on_desktop=““ hide_on_notebook=““ hide_on_tablet=““ hide_on_mobile=““][/vc_column_inner][vc_column_inner width=“1/3″ icons_position=“left“][vc_empty_space height=“2em“ alter_height=“none“ hide_on_desktop=““ hide_on_notebook=““ hide_on_tablet=““ hide_on_mobile=““][/vc_column_inner][vc_column_inner width=“1/3″ icons_position=“left“]\n			Vorverkauf11 Euro Preis inklusive Gebühren \n(Abendkasse 10 Euro) Jetzt kaufen[/vc_column_inner][/vc_row_inner][vc_empty_space height=“1em“ alter_height=“none“ hide_on_desktop=““ hide_on_notebook=““ hide_on_tablet=““ hide_on_mobile=““][vc_empty_space height=“2em“ alter_height=“none“ hide_on_desktop=““ hide_on_notebook=““ hide_on_tablet=““ hide_on_mobile=““][vc_row_inner][vc_column_inner width=“1/2″ icons_position=“left“][vc_column_text][/vc_column_text][/vc_column_inner][vc_column_inner width=“1/2″ icons_position=“left“][/vc_column_inner][/vc_row_inner][/vc_column][/vc_row]
URL:https://edp-koeln.de/event/black-magic-six/
CATEGORIES:Konzert
ATTACH;FMTTYPE=image/jpeg:https://edp-koeln.de/wp-content/uploads/2023/08/Black-Magic-Six-by-Mikko-Linsioe-5.jpg
END:VEVENT
BEGIN:VEVENT
DTSTART;TZID=Europe/Berlin:20231130T200000
DTEND;TZID=Europe/Berlin:20231130T220000
DTSTAMP:20260425T143411
CREATED:20230816T104110Z
LAST-MODIFIED:20231019T114959Z
UID:3635-1701374400-1701381600@edp-koeln.de
SUMMARY:Skoteenas
DESCRIPTION:[vc_row][vc_column icons_position=“left“][vc_row_inner][vc_column_inner width=“2/3″ icons_position=“left“][vc_column_text] \nSkoteenas\nSkoteenas sind ein Kölner Trio und stampfen schräge Rock’n’Roll-Instrumentals aus dem Bühnenboden\, die in Hörerhirne dringen und dort nicht minder abgefahrene Spaghetti-Horror-Trash-Filmchen entstehen lassen\, wie unlängst im Abspann von Peter Thorwarths #1 Netflix-Bestseller „Blood & Gold“ zu hören ist. \nDarin wird man z.B. in einem Höllenritt durch die Wüste gejagt\, anschließend mit einem Surfbrett verprügelt und unweit einer Atomgitarrentestinsel ins Reverb-Meer geschubst. Die dort wütenden Seeungeheuer achteln einen mit ihren messerscharfen Twang-Tentakeln in schlundgerechte Stücke und kotzen\, was nicht schmeckt\, über dem von Plutoniumperlen grünlich beleuchteten Meeresgrund wieder aus. \nDo. 30.11.23 | Einlass 19 h | Beginn 20 h[/vc_column_text][/vc_column_inner][vc_column_inner width=“1/3″ icons_position=“left“][vc_empty_space height=“2em“ alter_height=“none“ hide_on_desktop=““ hide_on_notebook=““ hide_on_tablet=““ hide_on_mobile=““][/vc_column_inner][vc_column_inner width=“1/3″ icons_position=“left“]\n			Vorverkauf11\,00 Euro Preis inklusive Gebühren \n(Abendkasse 12 Euro) Jetzt kaufen[vc_empty_space height=“2em“ alter_height=“none“ hide_on_desktop=““ hide_on_notebook=““ hide_on_tablet=““ hide_on_mobile=““][/vc_column_inner][/vc_row_inner][vc_row_inner][vc_column_inner width=“1/2″ icons_position=“left“][vc_column_text][/vc_column_text][/vc_column_inner][vc_column_inner width=“1/2″ icons_position=“left“][/vc_column_inner][/vc_row_inner][/vc_column][/vc_row]
URL:https://edp-koeln.de/event/skoteenas-2023/
CATEGORIES:Konzert
ATTACH;FMTTYPE=image/jpeg:https://edp-koeln.de/wp-content/uploads/2022/07/skoteenas.jpg
END:VEVENT
END:VCALENDAR