BEGIN:VCALENDAR
VERSION:2.0
PRODID:-//E.D.P. - ECPv6.15.20//NONSGML v1.0//EN
CALSCALE:GREGORIAN
METHOD:PUBLISH
X-WR-CALNAME:E.D.P.
X-ORIGINAL-URL:https://edp-koeln.de
X-WR-CALDESC:Veranstaltungen für E.D.P.
REFRESH-INTERVAL;VALUE=DURATION:PT1H
X-Robots-Tag:noindex
X-PUBLISHED-TTL:PT1H
BEGIN:VTIMEZONE
TZID:Europe/Berlin
BEGIN:DAYLIGHT
TZOFFSETFROM:+0100
TZOFFSETTO:+0200
TZNAME:CEST
DTSTART:20250330T010000
END:DAYLIGHT
BEGIN:STANDARD
TZOFFSETFROM:+0200
TZOFFSETTO:+0100
TZNAME:CET
DTSTART:20251026T010000
END:STANDARD
BEGIN:DAYLIGHT
TZOFFSETFROM:+0100
TZOFFSETTO:+0200
TZNAME:CEST
DTSTART:20260329T010000
END:DAYLIGHT
BEGIN:STANDARD
TZOFFSETFROM:+0200
TZOFFSETTO:+0100
TZNAME:CET
DTSTART:20261025T010000
END:STANDARD
BEGIN:DAYLIGHT
TZOFFSETFROM:+0100
TZOFFSETTO:+0200
TZNAME:CEST
DTSTART:20270328T010000
END:DAYLIGHT
BEGIN:STANDARD
TZOFFSETFROM:+0200
TZOFFSETTO:+0100
TZNAME:CET
DTSTART:20271031T010000
END:STANDARD
END:VTIMEZONE
BEGIN:VEVENT
DTSTART;TZID=Europe/Berlin:20260517T180000
DTEND;TZID=Europe/Berlin:20260517T220000
DTSTAMP:20260423T002606
CREATED:20260324T111528Z
LAST-MODIFIED:20260324T111528Z
UID:4816-1779040800-1779055200@edp-koeln.de
SUMMARY:THE RUMOURS (USA)
DESCRIPTION:[vc_row][vc_column icons_position=“left“][vc_row_inner][vc_column_inner width=“2/3″ icons_position=“left“][vc_column_text css=““] \nTHE RUMOURS\nDie energiegeladenen Rock’n’Roll Band The Rumours aus Iowa ist ein Trio\, das mitreißenden Sound liefert. Sie vereinen klassischen Punk-Vibe mit einer Prise Metal. Man könnte sagen: The Rumours sind die perfekte Mischung aus Motörhead und Joan Jett. \nThe Rumours haben eine unaufhaltsame Kraft\, die die Rock’n’Roll-Szene nachhaltig positiv beeinflusst. Sie wollen Frauen stärken\, und indem sie Frauen stärken\, stärken sie letztendlich alle. Es ist nicht nur Musik\, es ist eine Botschaft – eine Botschaft\, die wir alle selbst erleben müssen. Nach einem Konzert von The Rumours werdet ihr euch garantiert im Team Grrrl wiederfinden. \nIhre musikalische Vielseitigkeit hat ihnen Support-Auftritte und Tourneen mit international bekannten Bands wie Joan Jett & The Blackhearts\, Amyl & The Sniffers\, Buckcherry\, Supersuckers\, Faster Pussycat\, Koffin Kats\, Nekromantix\, D.O.A.\, Electric Six\, Local H und Marky Ramone eingebracht\, um nur einige zu nennen. \nThe Rumours spielten im Rahmen ihrer US-Tourneen auch auf renommierten Festivals wie dem Rock Fest\, Rocklahoma\, Muddy Roots und Motoblot. 2023 tourten sie zudem durch England. \nIn den letzten Jahren veröffentlichten The Rumours zwei Alben: „Suck It“ (2020) und „Kill or be Killed“ (2024). Die Band wird Singles und Videos zur Unterstützung ihres nächsten Albums veröffentlichen\, das 2026 erscheint. Sie werden weiterhin ausgiebig in den USA touren und planen\, 2026 auch international Fuß zu fassen und sie kommen für ein paar wenige Konzerte nach Deutschland. \nSo 17.05.26 | Einlass 17 h | Beginn 18 h[/vc_column_text][vc_empty_space height=“2em“ alter_height=“none“ hide_on_desktop=““ hide_on_notebook=““ hide_on_tablet=““ hide_on_mobile=““][/vc_column_inner][vc_column_inner width=“1/3″ icons_position=“left“][vc_empty_space height=“2em“ alter_height=“none“ hide_on_desktop=““ hide_on_notebook=““ hide_on_tablet=““ hide_on_mobile=““][/vc_column_inner][vc_column_inner width=“1/3″ icons_position=“left“]\n			Vorverkauf19\,80 Euro (Preis inklusive Gebühren) \nAbendkasse 22 € Jetzt kaufen[/vc_column_inner][/vc_row_inner][vc_empty_space height=“2em“ alter_height=“none“ hide_on_desktop=““ hide_on_notebook=““ hide_on_tablet=““ hide_on_mobile=““][vc_row_inner][vc_column_inner width=“1/2″ icons_position=“left“][vc_column_text css=““][/vc_column_text][/vc_column_inner][vc_column_inner width=“1/2″ icons_position=“left“][/vc_column_inner][/vc_row_inner][/vc_column][/vc_row][vc_row][vc_column icons_position=“left“][vc_column_text]\n[/vc_column_text][/vc_column][/vc_row][vc_row][vc_column icons_position=“left“][vc_column_text]\n[/vc_column_text][/vc_column][/vc_row][vc_row full_width=“stretch_row“ hide_bg_image_on_tablet=““ hide_bg_image_on_mobile=““ shape_divider_top_front=““ shape_divider_bottom_front=““ row_delimiter=““ hide_on_desktop=““ hide_on_notebook=““ hide_on_tablet=““ hide_on_mobile=““ hide_on_frontpage=““][vc_column icons_position=“left“][vc_empty_space height=“0.5em“ alter_height=“none“ hide_on_desktop=““ hide_on_notebook=““ hide_on_tablet=““ hide_on_mobile=““][vc_column_text] \nGesponsert von:\n[/vc_column_text][/vc_column][/vc_row][vc_row full_width=“stretch_row“ hide_bg_image_on_tablet=““ hide_bg_image_on_mobile=““ row_delimiter=““ hide_on_desktop=““ hide_on_notebook=““ hide_on_tablet=““ hide_on_mobile=“1″ hide_on_frontpage=““][vc_column width=“1/2″ icons_position=“left“]			\n							\n			[vc_empty_space height=“1em“ alter_height=“none“ hide_on_desktop=““ hide_on_notebook=““ hide_on_tablet=““ hide_on_mobile=““][/vc_column][vc_column width=“1/2″ icons_position=“left“][/vc_column][/vc_row][vc_row full_width=“stretch_row“ hide_bg_image_on_tablet=““ hide_bg_image_on_mobile=““ row_delimiter=““ hide_on_desktop=“1″ hide_on_notebook=“1″ hide_on_tablet=“1″ hide_on_mobile=““ hide_on_frontpage=““][vc_column icons_position=“left“][vc_empty_space height=“1em“ alter_height=“none“ hide_on_desktop=““ hide_on_notebook=““ hide_on_tablet=““ hide_on_mobile=““][vc_single_image image=“3680″ img_size=“medium“ css=“.vc_custom_1705687468588{padding-top: 10px !important;padding-right: 10px !important;padding-bottom: 10px !important;padding-left: 10px !important;}“][vc_empty_space height=“1em“ alter_height=“none“ hide_on_desktop=““ hide_on_notebook=““ hide_on_tablet=““ hide_on_mobile=““][/vc_column][/vc_row]
URL:https://edp-koeln.de/event/the-rumours/
CATEGORIES:Konzert
ATTACH;FMTTYPE=image/jpeg:https://edp-koeln.de/wp-content/uploads/2026/03/The-Rumours_hp.jpg
END:VEVENT
END:VCALENDAR