BEGIN:VCALENDAR
VERSION:2.0
PRODID:-//E.D.P. - ECPv6.15.20//NONSGML v1.0//EN
CALSCALE:GREGORIAN
METHOD:PUBLISH
X-WR-CALNAME:E.D.P.
X-ORIGINAL-URL:https://edp-koeln.de
X-WR-CALDESC:Veranstaltungen für E.D.P.
REFRESH-INTERVAL;VALUE=DURATION:PT1H
X-Robots-Tag:noindex
X-PUBLISHED-TTL:PT1H
BEGIN:VTIMEZONE
TZID:Europe/Berlin
BEGIN:DAYLIGHT
TZOFFSETFROM:+0100
TZOFFSETTO:+0200
TZNAME:CEST
DTSTART:20220327T010000
END:DAYLIGHT
BEGIN:STANDARD
TZOFFSETFROM:+0200
TZOFFSETTO:+0100
TZNAME:CET
DTSTART:20221030T010000
END:STANDARD
BEGIN:DAYLIGHT
TZOFFSETFROM:+0100
TZOFFSETTO:+0200
TZNAME:CEST
DTSTART:20230326T010000
END:DAYLIGHT
BEGIN:STANDARD
TZOFFSETFROM:+0200
TZOFFSETTO:+0100
TZNAME:CET
DTSTART:20231029T010000
END:STANDARD
BEGIN:DAYLIGHT
TZOFFSETFROM:+0100
TZOFFSETTO:+0200
TZNAME:CEST
DTSTART:20240331T010000
END:DAYLIGHT
BEGIN:STANDARD
TZOFFSETFROM:+0200
TZOFFSETTO:+0100
TZNAME:CET
DTSTART:20241027T010000
END:STANDARD
END:VTIMEZONE
BEGIN:VEVENT
DTSTART;TZID=Europe/Berlin:20231204T200000
DTEND;TZID=Europe/Berlin:20231204T220000
DTSTAMP:20260425T160034
CREATED:20230818T122106Z
LAST-MODIFIED:20230818T130440Z
UID:3646-1701720000-1701727200@edp-koeln.de
SUMMARY:Holly Golightly and Band
DESCRIPTION:[vc_row][vc_column icons_position=“left“][vc_row_inner][vc_column_inner width=“2/3″ icons_position=“left“][vc_column_text] \nE.D.P. Veranstaltung in der BüzE\nAdresse: Venloer Str. 429\, 50825 Köln (gegenüber vom E.D.P.) \nMo. 04.12.23 | Einlass 19 h | Beginn 20 h \nHolly Golightly and Band\nDer Sound von Holly und ihrer Band ist geprägt von Twang Gitarren\, Anspielungen auf die Zeit vor Sixties Rock’n’Roll\, English-Pop und dem unvergleichlichen Charme einer sympathischen Sixties Garage Pop Diva. Besonders bei den ruhigen\, langsamen Songs scheint das Publikum mit jedem Ton ein wenig mehr dahin zu schmelzen. \nSeit inzwischen mehr als 10 Jahren ist Holly Golightly die eine Hälfte des Blues-Americana Duos HOLLY GOLIGHTLY & THE BROKEOFFS. Bei „The Brokeoffs“ handelt es sich um den Multi-Instrumentalisten Lawyer Dave mit dem Holly inzwischen einige erfolgreiche Alben veröffentlichte und regelmäßig mehrere Touren auf beiden Seiten des Atlantiks spielte. \n  \n \nSupport: Saba Lou \nNach einer längeren Pause kehrt Saba Lou wieder\, nur sie und ihre Gitarre. Mal sanfte Folk-Melodien\, mal kraftvolle Soul-Hits – neue\, unveröffentlichte Lieder warten auf alle\, die kommen wollen.[/vc_column_text][vc_empty_space height=“2em“ alter_height=“none“ hide_on_desktop=““ hide_on_notebook=““ hide_on_tablet=““ hide_on_mobile=““][/vc_column_inner][vc_column_inner width=“1/3″ icons_position=“left“][vc_empty_space height=“2em“ alter_height=“none“ hide_on_desktop=““ hide_on_notebook=““ hide_on_tablet=““ hide_on_mobile=““][/vc_column_inner][vc_column_inner width=“1/3″ icons_position=“left“]\n			Vorverkauf22 Euro Preis inklusive Gebühren \n(Abendkasse 24 Euro) Jetzt kaufen[/vc_column_inner][/vc_row_inner][vc_empty_space height=“2em“ alter_height=“none“ hide_on_desktop=““ hide_on_notebook=““ hide_on_tablet=““ hide_on_mobile=““][vc_row_inner][vc_column_inner width=“1/2″ icons_position=“left“][vc_column_text][/vc_column_text][/vc_column_inner][vc_column_inner width=“1/2″ icons_position=“left“][vc_column_text][/vc_column_text][/vc_column_inner][/vc_row_inner][/vc_column][/vc_row]
URL:https://edp-koeln.de/event/holly-golightly-and-band/
CATEGORIES:Konzert
ATTACH;FMTTYPE=image/jpeg:https://edp-koeln.de/wp-content/uploads/2023/08/HOLLYGOLIGHTLY.jpg
END:VEVENT
END:VCALENDAR