BEGIN:VCALENDAR
VERSION:2.0
PRODID:-//E.D.P. - ECPv6.15.20//NONSGML v1.0//EN
CALSCALE:GREGORIAN
METHOD:PUBLISH
X-WR-CALNAME:E.D.P.
X-ORIGINAL-URL:https://edp-koeln.de
X-WR-CALDESC:Veranstaltungen für E.D.P.
REFRESH-INTERVAL;VALUE=DURATION:PT1H
X-Robots-Tag:noindex
X-PUBLISHED-TTL:PT1H
BEGIN:VTIMEZONE
TZID:Europe/Berlin
BEGIN:DAYLIGHT
TZOFFSETFROM:+0100
TZOFFSETTO:+0200
TZNAME:CEST
DTSTART:20220327T010000
END:DAYLIGHT
BEGIN:STANDARD
TZOFFSETFROM:+0200
TZOFFSETTO:+0100
TZNAME:CET
DTSTART:20221030T010000
END:STANDARD
BEGIN:DAYLIGHT
TZOFFSETFROM:+0100
TZOFFSETTO:+0200
TZNAME:CEST
DTSTART:20230326T010000
END:DAYLIGHT
BEGIN:STANDARD
TZOFFSETFROM:+0200
TZOFFSETTO:+0100
TZNAME:CET
DTSTART:20231029T010000
END:STANDARD
BEGIN:DAYLIGHT
TZOFFSETFROM:+0100
TZOFFSETTO:+0200
TZNAME:CEST
DTSTART:20240331T010000
END:DAYLIGHT
BEGIN:STANDARD
TZOFFSETFROM:+0200
TZOFFSETTO:+0100
TZNAME:CET
DTSTART:20241027T010000
END:STANDARD
END:VTIMEZONE
BEGIN:VEVENT
DTSTART;TZID=Europe/Berlin:20230415T210000
DTEND;TZID=Europe/Berlin:20230416T050000
DTSTAMP:20260426T051849
CREATED:20230310T135752Z
LAST-MODIFIED:20230313T144945Z
UID:3448-1681592400-1681621200@edp-koeln.de
SUMMARY:Stranger Sounds Chapter 10 - "I said Three Inches!"
DESCRIPTION:[vc_row][vc_column icons_position=“left“][vc_row_inner][vc_column_inner icons_position=“left“][vc_column_text] \nStranger Sounds Chapter 10 – „I said three inches“\nEINTRITT FREI! \nUnser aller Lieblings-Mystery-Serie weiterhin im passenden Tanzformat. Oliver Klobes aka Caulfield und Damned Dan föhnen bereits zum 10. Mal ihrer Verbundenheit zur Musik beim nächsten Kapitel ihrer 80ies Party mit Herz. \nWer den Spirit der der 80er und die Musik aus Stranger Things liebt\, sollte das zehnte Spektakel der Stranger Sounds nicht missen. \nErstmalig im wunderbaren E.D.P. zu Ehrenfeld mit Schirmchen-Getränken und Pina Colada Feelings für Freunde von guter Unterhaltungsmusik mit Popappeal. Friends don´t Lie! \nXXX Stranger Sounds Chapter 10: More than a feeling – all sides of 80s Pop\, New Wave\, Poser Rock\, Eggos XXX \nSa. 15.04.22 | 21 – 5 Uhr[/vc_column_text][vc_empty_space height=“1em“ alter_height=“none“ hide_on_desktop=““ hide_on_notebook=““ hide_on_tablet=““ hide_on_mobile=““][/vc_column_inner][/vc_row_inner][vc_empty_space height=“2em“ alter_height=“none“ hide_on_desktop=““ hide_on_notebook=““ hide_on_tablet=““ hide_on_mobile=““][vc_row_inner][vc_column_inner width=“1/2″ icons_position=“left“][vc_column_text][/vc_column_text][vc_empty_space height=“1em“ alter_height=“none“ hide_on_desktop=“1″ hide_on_notebook=“1″ hide_on_tablet=““ hide_on_mobile=““][/vc_column_inner][vc_column_inner width=“1/2″ icons_position=“left“][vc_empty_space height=“1em“ alter_height=“none“ hide_on_desktop=“1″ hide_on_notebook=“1″ hide_on_tablet=““ hide_on_mobile=““][/vc_column_inner][/vc_row_inner][/vc_column][/vc_row]
URL:https://edp-koeln.de/event/stranger-sounds-chapter-10-i-said-three-inches/
CATEGORIES:Party
ATTACH;FMTTYPE=image/jpeg:https://edp-koeln.de/wp-content/uploads/2023/03/stranger-sounds.jpg
END:VEVENT
END:VCALENDAR